BEGIN:VCALENDAR
VERSION:2.0
PRODID:-//NC REALTORS® - ECPv6.15.16.1//NONSGML v1.0//EN
CALSCALE:GREGORIAN
METHOD:PUBLISH
X-ORIGINAL-URL:https://www.ncrealtors.org
X-WR-CALDESC:Events for NC REALTORS®
REFRESH-INTERVAL;VALUE=DURATION:PT1H
X-Robots-Tag:noindex
X-PUBLISHED-TTL:PT1H
BEGIN:VTIMEZONE
TZID:America/New_York
BEGIN:DAYLIGHT
TZOFFSETFROM:-0500
TZOFFSETTO:-0400
TZNAME:EDT
DTSTART:20240310T070000
END:DAYLIGHT
BEGIN:STANDARD
TZOFFSETFROM:-0400
TZOFFSETTO:-0500
TZNAME:EST
DTSTART:20241103T060000
END:STANDARD
BEGIN:DAYLIGHT
TZOFFSETFROM:-0500
TZOFFSETTO:-0400
TZNAME:EDT
DTSTART:20250309T070000
END:DAYLIGHT
BEGIN:STANDARD
TZOFFSETFROM:-0400
TZOFFSETTO:-0500
TZNAME:EST
DTSTART:20251102T060000
END:STANDARD
BEGIN:DAYLIGHT
TZOFFSETFROM:-0500
TZOFFSETTO:-0400
TZNAME:EDT
DTSTART:20260308T070000
END:DAYLIGHT
BEGIN:STANDARD
TZOFFSETFROM:-0400
TZOFFSETTO:-0500
TZNAME:EST
DTSTART:20261101T060000
END:STANDARD
END:VTIMEZONE
BEGIN:VEVENT
DTSTART;TZID=America/New_York:20250610T090000
DTEND;TZID=America/New_York:20250613T120000
DTSTAMP:20260421T120545
CREATED:20241212T180041Z
LAST-MODIFIED:20250416T153129Z
UID:10000215-1749546000-1749816000@www.ncrealtors.org
SUMMARY:Virtual | NC REALTORS® Business & Committee Meetings
DESCRIPTION:Our committee meetings play a crucial role in driving key initiatives and making informed decisions for the betterment of the industry. These meetings provide a forum for members to discuss important issues\, propose solutions and collaborate on projects that significantly impact real estate in North Carolina. \nRegistration launches April 23\, 2025\nSCHEDULE OF EVENTS
URL:https://www.ncrealtors.org/event/june-2025-virtual-meetings/
LOCATION:Virtual
CATEGORIES:Annual Events
END:VEVENT
END:VCALENDAR