BEGIN:VCALENDAR
VERSION:2.0
PRODID:-//NC REALTORS® - ECPv6.15.16.1//NONSGML v1.0//EN
CALSCALE:GREGORIAN
METHOD:PUBLISH
X-WR-CALNAME:NC REALTORS®
X-ORIGINAL-URL:https://www.ncrealtors.org
X-WR-CALDESC:Events for NC REALTORS®
REFRESH-INTERVAL;VALUE=DURATION:PT1H
X-Robots-Tag:noindex
X-PUBLISHED-TTL:PT1H
BEGIN:VTIMEZONE
TZID:America/New_York
BEGIN:DAYLIGHT
TZOFFSETFROM:-0500
TZOFFSETTO:-0400
TZNAME:EDT
DTSTART:20220313T070000
END:DAYLIGHT
BEGIN:STANDARD
TZOFFSETFROM:-0400
TZOFFSETTO:-0500
TZNAME:EST
DTSTART:20221106T060000
END:STANDARD
BEGIN:DAYLIGHT
TZOFFSETFROM:-0500
TZOFFSETTO:-0400
TZNAME:EDT
DTSTART:20230312T070000
END:DAYLIGHT
BEGIN:STANDARD
TZOFFSETFROM:-0400
TZOFFSETTO:-0500
TZNAME:EST
DTSTART:20231105T060000
END:STANDARD
BEGIN:DAYLIGHT
TZOFFSETFROM:-0500
TZOFFSETTO:-0400
TZNAME:EDT
DTSTART:20240310T070000
END:DAYLIGHT
BEGIN:STANDARD
TZOFFSETFROM:-0400
TZOFFSETTO:-0500
TZNAME:EST
DTSTART:20241103T060000
END:STANDARD
END:VTIMEZONE
BEGIN:VEVENT
DTSTART;TZID=America/New_York:20231108T090000
DTEND;TZID=America/New_York:20231108T130000
DTSTAMP:20260422T023925
CREATED:20230419T150628Z
LAST-MODIFIED:20230728T175535Z
UID:10000038-1699434000-1699448400@www.ncrealtors.org
SUMMARY:Virtual | Legal Risks in Real Estate
DESCRIPTION:Real estate is risky business! That’s why you need all the right tools and information to manage the risks. This protects you\, your livelihood and your clients. The focus of this class is to help you develop\, implement\, recognize\, and monitor plans to address issues long before problems arise that could put your business in jeopardy. Learn about critical aspects of Federal and State law including fair housing\, license\, risk management and agency. \n\nThis class provides the following credit: 4 hours CE & GRI designation \nMember Price (with CE): $80.00\nNon-member Price (with CE): $90.00 \n	\n\n\n\n\n	\n	\n				\n		Presented by\n							\n								\n									\n					\n				Patrice Willetts\n														\n											\n							\n					Patrice began her real estate career in 1985. After 30+ years of volunteering and advocating for things she believes in\, her motto is “Been there\, Done That\, Got the T-shirt”.  She is a past President of both Cape Fear REALTORS® and President of NC REALTORS®.  She is a graduate of the NC REALTORS® & NAR’s Leadership Academy. \nPatrice is always looking for ways to raise the bar of professionalism for our members. She is an approved instructor for the NCREC and teaches NAR and REBI designation and certification courses.
URL:https://www.ncrealtors.org/event/legal-risks-in-real-estate-virtual-2/
LOCATION:Virtual
CATEGORIES:CE Courses,Designations & Certifications,GRI,Legal & Ethics
ATTACH;FMTTYPE=image/jpeg:https://www.ncrealtors.org/wp-content/uploads/LegalRisksinRealEstate_FeatureImage.jpg
END:VEVENT
END:VCALENDAR