BEGIN:VCALENDAR
VERSION:2.0
PRODID:-//NC REALTORS® - ECPv6.15.16.1//NONSGML v1.0//EN
CALSCALE:GREGORIAN
METHOD:PUBLISH
X-WR-CALNAME:NC REALTORS®
X-ORIGINAL-URL:https://www.ncrealtors.org
X-WR-CALDESC:Events for NC REALTORS®
REFRESH-INTERVAL;VALUE=DURATION:PT1H
X-Robots-Tag:noindex
X-PUBLISHED-TTL:PT1H
BEGIN:VTIMEZONE
TZID:America/New_York
BEGIN:DAYLIGHT
TZOFFSETFROM:-0500
TZOFFSETTO:-0400
TZNAME:EDT
DTSTART:20230312T070000
END:DAYLIGHT
BEGIN:STANDARD
TZOFFSETFROM:-0400
TZOFFSETTO:-0500
TZNAME:EST
DTSTART:20231105T060000
END:STANDARD
BEGIN:DAYLIGHT
TZOFFSETFROM:-0500
TZOFFSETTO:-0400
TZNAME:EDT
DTSTART:20240310T070000
END:DAYLIGHT
BEGIN:STANDARD
TZOFFSETFROM:-0400
TZOFFSETTO:-0500
TZNAME:EST
DTSTART:20241103T060000
END:STANDARD
BEGIN:DAYLIGHT
TZOFFSETFROM:-0500
TZOFFSETTO:-0400
TZNAME:EDT
DTSTART:20250309T070000
END:DAYLIGHT
BEGIN:STANDARD
TZOFFSETFROM:-0400
TZOFFSETTO:-0500
TZNAME:EST
DTSTART:20251102T060000
END:STANDARD
END:VTIMEZONE
BEGIN:VTIMEZONE
TZID:UTC
BEGIN:STANDARD
TZOFFSETFROM:+0000
TZOFFSETTO:+0000
TZNAME:UTC
DTSTART:20230101T000000
END:STANDARD
END:VTIMEZONE
BEGIN:VEVENT
DTSTART;TZID=America/New_York:20240215T090000
DTEND;TZID=America/New_York:20240215T160000
DTSTAMP:20260421T221151
CREATED:20231031T205917Z
LAST-MODIFIED:20231031T205920Z
UID:10000068-1707987600-1708012800@www.ncrealtors.org
SUMMARY:Virtual | Professional Standards/COE Training
DESCRIPTION:4 hours of elective CE credit\nJoin Stephanie Walker\, an expert on the Code of Ethics and professional standards matters\, in a one day (9:00am to 4:00 pm) long seminar covering the Code of Ethics and processes to enforce the Code.  This course will be presented virtually. You will earn 4 hours of elective CE credit for completing this course. \nAbout the Class: This class will cover the foundation of the Professional Standards process and the latest changes to the Code of Ethics. The class will provide advanced training on how to write a quality Findings of Fact and high-level training for Hearing Panel Chairpersons. \nWho Should Attend? Anyone and everyone!  While the Professional Standards Training has traditionally been aimed at members of local REALTOR® board/association BODs and Grievance and Professional Standards Committees\, the class also fulfills the National Association of REALTORS® (NAR) ethics training requirement. \n	\n\n\n\n\n\n\n	\n	\n				\n		Presented by\n							\n								\n									\n					\n				Stephanie Walker\n														Owner/President	\n														\n														Stephanie Walker & Associates	\n											\n							\n					Stephanie has been in the real estate business for more than 3 decades. Stephanie holds a number of NAR Designations and is trained in both REALTOR® and Superior Court Mediation. She is a past President of both the Outer Banks Association of REALTORS® and the North Carolina Association of REALTORS®.  In 2016\, Stephanie was honored as the NC REALTORS® REALTOR® of the Year. \nHer experiences\, both in the field and volunteering at all levels of the REALTOR® association\, give her plenty of real life\, in the trenches stories to  supplement her courses with actual scenarios that bring relevance\, substance\, and humor to attendees.
URL:https://www.ncrealtors.org/event/virtual-professional-standards-coe-training-021524/
LOCATION:Virtual
CATEGORIES:CE Courses,Legal & Ethics
ATTACH;FMTTYPE=image/jpeg:https://www.ncrealtors.org/wp-content/uploads/ProfessionalStandardsandCodeofEthicsTraining_FeatureImage.jpg
END:VEVENT
BEGIN:VEVENT
DTSTART;TZID=UTC:20240222T090000
DTEND;TZID=UTC:20240222T130000
DTSTAMP:20260421T221151
CREATED:20231220T145552Z
LAST-MODIFIED:20231227T160951Z
UID:10000087-1708592400-1708606800@www.ncrealtors.org
SUMMARY:Virtual | Sticking to the Code of Ethics
DESCRIPTION:Why does The Code matter today more than ever? The Code of Ethics is essential to doing your job with the highest integrity. This class reviews key articles of NARs COE\, highlights pertinent changes\, and offers important takeaway points you can apply to your day-to-day business dealings to ensure you’re always ethical in your business practices. \n\nThis class provides the following credit: 4 hours CE\, GRI designation & NAR’s Code of Ethics training requirement \nMember Price (with CE): $70.00\nNon-member Price (with CE): $80.00 \n	\n\n\n\n\n	\n	\n				\n		Presented by\n							\n								\n									\n					\n				Kristie Ferguson\n														\n											\n							\n					Kristie Ferguson has been a REALTOR® since 2005\, with experience spanning new construction\, custom homebuilding\, sales\, and education. Known for her engaging teaching style\, she simplifies complex concepts and equips agents with strategies to succeed in today’s market. Kristie holds several NAR designations\, including CRS and CIPS\, and has earned the Commitment to Excellence endorsement from the National Association of REALTORS®. She is a proud graduate of the NC REALTORS® William C. Bass Leadership Academy\, class of 2022 and founder of Agent Academics\, a platform dedicated to professional growth in real estate.
URL:https://www.ncrealtors.org/event/sticking-to-the-code-of-ethics-022224/
LOCATION:Virtual
CATEGORIES:CE Courses,Designations & Certifications,GRI,Legal & Ethics
ATTACH;FMTTYPE=image/jpeg:https://www.ncrealtors.org/wp-content/uploads/StickingtotheCodeofEthics_FeatureImage.jpg
END:VEVENT
BEGIN:VEVENT
DTSTART;TZID=America/New_York:20240229T090000
DTEND;TZID=America/New_York:20240229T160000
DTSTAMP:20260421T221151
CREATED:20231031T210244Z
LAST-MODIFIED:20240222T140650Z
UID:10000069-1709197200-1709222400@www.ncrealtors.org
SUMMARY:Virtual | Professional Standards/COE Training
DESCRIPTION:WE’RE SORRY! THIS CLASS IS NOW FULL.\n4 hours of elective CE credit\nJoin Stephanie Walker\, an expert on the Code of Ethics and professional standards matters\, in a one day (9:00am to 4:00 pm) long seminar covering the Code of Ethics and processes to enforce the Code.  This course will be presented virtually. You will earn 4 hours of elective CE credit for completing this course. \nAbout the Class: This class will cover the foundation of the Professional Standards process and the latest changes to the Code of Ethics. The class will provide advanced training on how to write a quality Findings of Fact and high-level training for Hearing Panel Chairpersons. \nWho Should Attend? Anyone and everyone!  While the Professional Standards Training has traditionally been aimed at members of local REALTOR® board/association BODs and Grievance and Professional Standards Committees\, the class also fulfills the National Association of REALTORS® (NAR) ethics training requirement. \n	\n\n\n\n\n\n\n	\n	\n				\n		Presented by\n							\n								\n									\n					\n				Stephanie Walker\n														Owner/President	\n														\n														Stephanie Walker & Associates	\n											\n							\n					Stephanie has been in the real estate business for more than 3 decades. Stephanie holds a number of NAR Designations and is trained in both REALTOR® and Superior Court Mediation. She is a past President of both the Outer Banks Association of REALTORS® and the North Carolina Association of REALTORS®.  In 2016\, Stephanie was honored as the NC REALTORS® REALTOR® of the Year. \nHer experiences\, both in the field and volunteering at all levels of the REALTOR® association\, give her plenty of real life\, in the trenches stories to  supplement her courses with actual scenarios that bring relevance\, substance\, and humor to attendees.
URL:https://www.ncrealtors.org/event/virtual-professional-standards-coe-training-022924/
LOCATION:Virtual
CATEGORIES:CE Courses,Legal & Ethics
ATTACH;FMTTYPE=image/jpeg:https://www.ncrealtors.org/wp-content/uploads/ProfessionalStandardsandCodeofEthicsTraining_FeatureImage.jpg
END:VEVENT
END:VCALENDAR