BEGIN:VCALENDAR
VERSION:2.0
PRODID:-//NC REALTORS® - ECPv6.15.16.1//NONSGML v1.0//EN
CALSCALE:GREGORIAN
METHOD:PUBLISH
X-ORIGINAL-URL:https://www.ncrealtors.org
X-WR-CALDESC:Events for NC REALTORS®
REFRESH-INTERVAL;VALUE=DURATION:PT1H
X-Robots-Tag:noindex
X-PUBLISHED-TTL:PT1H
BEGIN:VTIMEZONE
TZID:America/New_York
BEGIN:DAYLIGHT
TZOFFSETFROM:-0500
TZOFFSETTO:-0400
TZNAME:EDT
DTSTART:20230312T070000
END:DAYLIGHT
BEGIN:STANDARD
TZOFFSETFROM:-0400
TZOFFSETTO:-0500
TZNAME:EST
DTSTART:20231105T060000
END:STANDARD
BEGIN:DAYLIGHT
TZOFFSETFROM:-0500
TZOFFSETTO:-0400
TZNAME:EDT
DTSTART:20240310T070000
END:DAYLIGHT
BEGIN:STANDARD
TZOFFSETFROM:-0400
TZOFFSETTO:-0500
TZNAME:EST
DTSTART:20241103T060000
END:STANDARD
BEGIN:DAYLIGHT
TZOFFSETFROM:-0500
TZOFFSETTO:-0400
TZNAME:EDT
DTSTART:20250309T070000
END:DAYLIGHT
BEGIN:STANDARD
TZOFFSETFROM:-0400
TZOFFSETTO:-0500
TZNAME:EST
DTSTART:20251102T060000
END:STANDARD
END:VTIMEZONE
BEGIN:VEVENT
DTSTART;TZID=America/New_York:20240409T130000
DTEND;TZID=America/New_York:20240409T170000
DTSTAMP:20260421T191318
CREATED:20240227T144040Z
LAST-MODIFIED:20240402T144057Z
UID:10000110-1712667600-1712682000@www.ncrealtors.org
SUMMARY:Virtual | Property Management BIC UP
DESCRIPTION:The 2023-2024 Broker-in-Charge Update (BICUP) course is a 4-hour continuing education real estate course written by the North Carolina Real Estate Commission. This course includes an added chapter on fiduciary duties for property managers. \n\nPMD Member Price: $40.00\nNCR Member Price: $60.00\nNon-member Price: $70.00 \n	\n\n\n\n\n\n\n	\n	\n				\n		Presented by\n							\n								\n									\n					\n				Mark Saunders\n														\n														Real Estate Brokers Academy	\n											\n							\n					Mark Saunders is a graduate of Appalachian State University and became a full-time REALTOR® in 2005. \nHe serves the REALTOR® community by participating on the Board of Directors for the Winston-Salem Association of REALTORS® and the North Carolina Association of REALTORS®. He is also a member of the North Carolina Association of REALTORS® Young Professionals Network\, serving as vice-chair in 2014 and chair in 2015. \nMark has received a number of awards and forms of recognition in his career\, which include: \n\n2010 Winston-Salem Association of REALTORS® Presidents Award for Outstanding Service and Dedication in the field of property management.\n2013 National Association of REALTORS® Young Professionals Network of the Year winner\n2013 Winston-Salem Association of REALTORS® Presidents Award for Outstanding Service and Dedication to the local association\n2016 Winston-Salem Association of REALTORS® Property Manager of the year\,\n2016 NC REALTOR® Innovation & Entrepreneurial Excellence Award\n2018 was selected to the 2018 Triad Business Journal 40 under 40 Business Leaders Class\n\nFind Mark on: \n\nWebsite\nLinkedIn\nYouTube\nX\nFacebook\nInstagram
URL:https://www.ncrealtors.org/event/040924-property-management-bicup/
LOCATION:Virtual
CATEGORIES:Fair Housing,Property Management - PMD
ATTACH;FMTTYPE=image/jpeg:https://www.ncrealtors.org/wp-content/uploads/040924_PropMgmtBICUP_FeatureImage.jpg
END:VEVENT
BEGIN:VEVENT
DTSTART;TZID=America/New_York:20240411T090000
DTEND;TZID=America/New_York:20240411T130000
DTSTAMP:20260421T191318
CREATED:20240227T144751Z
LAST-MODIFIED:20240402T144258Z
UID:10000112-1712826000-1712840400@www.ncrealtors.org
SUMMARY:Virtual | Property Management GENUP
DESCRIPTION:The 2023-2024 General Update (GENUP) real estate course is a 4-hour continuing education course written by the North Carolina Real Estate Commission. This course includes an added chapter on fiduciary duties for property managers. \n\nPMD Member Price: $40.00\nNCR Member Price: $60.00\nNon-member Price: $70.00 \n	\n\n\n\n\n\n\n	\n	\n				\n		Presented by\n							\n								\n									\n					\n				Mark Saunders\n														\n														Real Estate Brokers Academy	\n											\n							\n					Mark Saunders is a graduate of Appalachian State University and became a full-time REALTOR® in 2005. \nHe serves the REALTOR® community by participating on the Board of Directors for the Winston-Salem Association of REALTORS® and the North Carolina Association of REALTORS®. He is also a member of the North Carolina Association of REALTORS® Young Professionals Network\, serving as vice-chair in 2014 and chair in 2015. \nMark has received a number of awards and forms of recognition in his career\, which include: \n\n2010 Winston-Salem Association of REALTORS® Presidents Award for Outstanding Service and Dedication in the field of property management.\n2013 National Association of REALTORS® Young Professionals Network of the Year winner\n2013 Winston-Salem Association of REALTORS® Presidents Award for Outstanding Service and Dedication to the local association\n2016 Winston-Salem Association of REALTORS® Property Manager of the year\,\n2016 NC REALTOR® Innovation & Entrepreneurial Excellence Award\n2018 was selected to the 2018 Triad Business Journal 40 under 40 Business Leaders Class\n\nFind Mark on: \n\nWebsite\nLinkedIn\nYouTube\nX\nFacebook\nInstagram
URL:https://www.ncrealtors.org/event/041124-property-management-genup/
LOCATION:NC
CATEGORIES:Fair Housing,Property Management - PMD
ATTACH;FMTTYPE=image/jpeg:https://www.ncrealtors.org/wp-content/uploads/041124_PropMgmtGenUp_FeatureImage.jpg
END:VEVENT
BEGIN:VEVENT
DTSTART;TZID=America/New_York:20240411T133000
DTEND;TZID=America/New_York:20240411T173000
DTSTAMP:20260421T191318
CREATED:20240206T171544Z
LAST-MODIFIED:20240213T142937Z
UID:10000106-1712842200-1712856600@www.ncrealtors.org
SUMMARY:In-Person: Bias Override: Overcoming Barriers to Fair Housing
DESCRIPTION:Bias Override: Overcoming Barriers to Fair Housing helps interrupt stereotypical thinking to avoid fair housing pitfalls and provide equal professional service. Participants will examine the history of bias in real estate\, learn about the mind science of identity\, study how implicit bias can result in fair housing violations and engage in interactive exercises to enhance communication skills and business relationships with clients of all backgrounds. \n\nThis class provides the following credit: 4 hours of CE \nRegistration (with CE): $30 \nQuestions? Contact Jenny Hackett at jenny@gastonrealtors.com or 704-867-4826.
URL:https://www.ncrealtors.org/event/041124-bias-override/
LOCATION:Habitat for Humanity\, Johann Newcomb Event Center\, 1840 E Franklin Blvd\, Gastonia\, NC\, 28054
CATEGORIES:CE Courses,Designations & Certifications,Fair Housing
ATTACH;FMTTYPE=image/jpeg:https://www.ncrealtors.org/wp-content/uploads/BiasOverride_FeatureImage.jpg
END:VEVENT
BEGIN:VEVENT
DTSTART;TZID=America/New_York:20240417T090000
DTEND;TZID=America/New_York:20240417T130000
DTSTAMP:20260421T191318
CREATED:20240209T141308Z
LAST-MODIFIED:20240209T141531Z
UID:10000107-1713344400-1713358800@www.ncrealtors.org
SUMMARY:In-Person: Bias Override: Overcoming Barriers to Fair Housing
DESCRIPTION:Bias Override: Overcoming Barriers to Fair Housing helps interrupt stereotypical thinking to avoid fair housing pitfalls and provide equal professional service. Participants will examine the history of bias in real estate\, learn about the mind science of identity\, study how implicit bias can result in fair housing violations and engage in interactive exercises to enhance communication skills and business relationships with clients of all backgrounds. \n\nThis class provides the following credit: 4 hours of CE \nRegistration (with CE): $60\nRegistration (no CE): $50 \nQuestions? Contact Heather Greene at heather@jbornc.com. \n	\n\n\n\n\n\n\n	\n	\n				\n		Presented by\n							\n								\n									\n					\n				Tikola McCree\n														\n											\n							\n					Tikola McCree is a dedicated real estate professional with North Group Real Estate in the Greater Charlotte Area and a proud soccer mom to her 16-year-old son. With nearly two decades in education\, she has trained young artists and scholars\, shaping her passion for mentorship and community empowerment. \nA graduate of Rutgers University and Sarah Lawrence College\, Tikola holds certifications in administration\, special education\, and movement for students with disabilities. She actively champions fair housing and diversity\, serving as the 2024 Chair of the NC REALTORS® Diversity Committee\, 2025 Vice Chair and 2026 Chair of the NAR Fair Housing Policy Committee\, and President of the Charlotte Crown REALTIST Association (2022-2024). She also serves on the Canopy MLS Board of Directors and is part of NAR’s 2024 Leadership Academy. \nCommitted to fostering generational wealth\, Tikola educates agents nationwide on serving diverse communities and the impact of policy on the industry\, making her a leading voice in real estate advocacy and inclusion.
URL:https://www.ncrealtors.org/event/041724-bias-override/
LOCATION:Jacksonville Board of REALTORS®\, 200 Preston Rd Ste 100\, Jacksonville\, North Carolina\, 28540
CATEGORIES:CE Courses,Designations & Certifications,Fair Housing
ATTACH;FMTTYPE=image/jpeg:https://www.ncrealtors.org/wp-content/uploads/BiasOverride_FeatureImage.jpg
END:VEVENT
END:VCALENDAR