BEGIN:VCALENDAR
VERSION:2.0
PRODID:-//NC REALTORS® - ECPv6.15.16.1//NONSGML v1.0//EN
CALSCALE:GREGORIAN
METHOD:PUBLISH
X-WR-CALNAME:NC REALTORS®
X-ORIGINAL-URL:https://www.ncrealtors.org
X-WR-CALDESC:Events for NC REALTORS®
REFRESH-INTERVAL;VALUE=DURATION:PT1H
X-Robots-Tag:noindex
X-PUBLISHED-TTL:PT1H
BEGIN:VTIMEZONE
TZID:America/New_York
BEGIN:DAYLIGHT
TZOFFSETFROM:-0500
TZOFFSETTO:-0400
TZNAME:EDT
DTSTART:20230312T070000
END:DAYLIGHT
BEGIN:STANDARD
TZOFFSETFROM:-0400
TZOFFSETTO:-0500
TZNAME:EST
DTSTART:20231105T060000
END:STANDARD
BEGIN:DAYLIGHT
TZOFFSETFROM:-0500
TZOFFSETTO:-0400
TZNAME:EDT
DTSTART:20240310T070000
END:DAYLIGHT
BEGIN:STANDARD
TZOFFSETFROM:-0400
TZOFFSETTO:-0500
TZNAME:EST
DTSTART:20241103T060000
END:STANDARD
BEGIN:DAYLIGHT
TZOFFSETFROM:-0500
TZOFFSETTO:-0400
TZNAME:EDT
DTSTART:20250309T070000
END:DAYLIGHT
BEGIN:STANDARD
TZOFFSETFROM:-0400
TZOFFSETTO:-0500
TZNAME:EST
DTSTART:20251102T060000
END:STANDARD
END:VTIMEZONE
BEGIN:VEVENT
DTSTART;TZID=America/New_York:20240509T090000
DTEND;TZID=America/New_York:20240509T130000
DTSTAMP:20260421T174645
CREATED:20240416T144313Z
LAST-MODIFIED:20240416T144317Z
UID:10000114-1715245200-1715259600@www.ncrealtors.org
SUMMARY:In-Person: Bias Override: Overcoming Barriers to Fair Housing
DESCRIPTION:Bias Override: Overcoming Barriers to Fair Housing helps interrupt stereotypical thinking to avoid fair housing pitfalls and provide equal professional service. Participants will examine the history of bias in real estate\, learn about the mind science of identity\, study how implicit bias can result in fair housing violations and engage in interactive exercises to enhance communication skills and business relationships with clients of all backgrounds. \n\nLunch provided \nThis class provides the following credit: 4 hours of CE \nRegistration: $30 \nQuestions? Contact Lisia Amburn at lisia@hprar.org or 336-819-6381.
URL:https://www.ncrealtors.org/event/050924-bias-override/
LOCATION:High Point Regional Association of REALTORS®\, 1830 Eastchester Dr\, High Point\, NC\, 27265
CATEGORIES:CE Courses,Designations & Certifications,Fair Housing
ATTACH;FMTTYPE=image/jpeg:https://www.ncrealtors.org/wp-content/uploads/BiasOverride_FeatureImage.jpg
END:VEVENT
BEGIN:VEVENT
DTSTART;TZID=America/New_York:20240523T130000
DTEND;TZID=America/New_York:20240523T170000
DTSTAMP:20260421T174645
CREATED:20240227T203253Z
LAST-MODIFIED:20240430T132452Z
UID:10000113-1716469200-1716483600@www.ncrealtors.org
SUMMARY:In-Person | National Real Estate Ethics Day
DESCRIPTION:Course Name: REALTOR® Code of Ethics: Conversion Using the Code \nUnderstanding the Code of Ethics and its requirements makes us better REALTORS®. This course will walk REALTORS® through the articles of the Code with emphasis on the most misunderstood and/or are most violated. Bringing the very best presentation to our buyer and seller clients is our number one goal and following the Code can help you do that. This course provides REALTORS® with a reliable reference for guidance in dealing with complex situations in today’s day to day practice of real estate. \nLimited to 20 people. \nLunch provided. \n\nRegistration Fee: $20 \nThis class provides the following credit: 4 Hours of CE & NAR’s Code of Ethics training \nFor a virtual experience\, contact your local board to register!
URL:https://www.ncrealtors.org/event/2024-national-real-estate-ethics-day/
LOCATION:NC REALTORS® Greensboro Headquarters\, 4511 Weybridge Lane\, Greensboro\, NC\, 27407
CATEGORIES:Legal & Ethics
ATTACH;FMTTYPE=image/jpeg:https://www.ncrealtors.org/wp-content/uploads/NREED_FeaturedImage_540x315.jpg
END:VEVENT
END:VCALENDAR