BEGIN:VCALENDAR
VERSION:2.0
PRODID:-//NC REALTORS® - ECPv6.15.16.1//NONSGML v1.0//EN
CALSCALE:GREGORIAN
METHOD:PUBLISH
X-ORIGINAL-URL:https://www.ncrealtors.org
X-WR-CALDESC:Events for NC REALTORS®
REFRESH-INTERVAL;VALUE=DURATION:PT1H
X-Robots-Tag:noindex
X-PUBLISHED-TTL:PT1H
BEGIN:VTIMEZONE
TZID:America/New_York
BEGIN:DAYLIGHT
TZOFFSETFROM:-0500
TZOFFSETTO:-0400
TZNAME:EDT
DTSTART:20240310T070000
END:DAYLIGHT
BEGIN:STANDARD
TZOFFSETFROM:-0400
TZOFFSETTO:-0500
TZNAME:EST
DTSTART:20241103T060000
END:STANDARD
BEGIN:DAYLIGHT
TZOFFSETFROM:-0500
TZOFFSETTO:-0400
TZNAME:EDT
DTSTART:20250309T070000
END:DAYLIGHT
BEGIN:STANDARD
TZOFFSETFROM:-0400
TZOFFSETTO:-0500
TZNAME:EST
DTSTART:20251102T060000
END:STANDARD
BEGIN:DAYLIGHT
TZOFFSETFROM:-0500
TZOFFSETTO:-0400
TZNAME:EDT
DTSTART:20260308T070000
END:DAYLIGHT
BEGIN:STANDARD
TZOFFSETFROM:-0400
TZOFFSETTO:-0500
TZNAME:EST
DTSTART:20261101T060000
END:STANDARD
END:VTIMEZONE
BEGIN:VEVENT
DTSTART;TZID=America/New_York:20250821T130000
DTEND;TZID=America/New_York:20250821T170000
DTSTAMP:20260420T194222
CREATED:20250402T152222Z
LAST-MODIFIED:20250402T152439Z
UID:10000256-1755781200-1755795600@www.ncrealtors.org
SUMMARY:Virtual | National Real Estate Ethics Day
DESCRIPTION:Need to fulfill your COE requirement for 2025*? We’ve got a fun and easy way for you to do it. And yes – we said fun! \nJoin NC REALTOR® Leigh Brown LIVE on Thursday\, August 21\, 2025 from 1PM – 5PM EST\, for this year’s virtual #NationalEthicsDay. She’ll make it worth your while\, as she always does. \nContact your local board to register! \n*This session satisfies NAR’s Ethics Requirement.  This class is CE approved for the day of the class only.
URL:https://www.ncrealtors.org/event/082125-ethics-day/
LOCATION:Virtual
CATEGORIES:CE Courses,Legal & Ethics
ATTACH;FMTTYPE=image/jpeg:https://www.ncrealtors.org/wp-content/uploads/NREED_FeaturedImage_540x315.jpg
END:VEVENT
BEGIN:VEVENT
DTSTART;TZID=America/New_York:20250827T090000
DTEND;TZID=America/New_York:20250827T130000
DTSTAMP:20260420T194222
CREATED:20250617T194223Z
LAST-MODIFIED:20250617T194228Z
UID:10000283-1756285200-1756299600@www.ncrealtors.org
SUMMARY:Virtual | Legal Risks in Real Estate
DESCRIPTION:Real estate is risky business! That’s why you need all the right tools and information to manage the risks. This protects you\, your livelihood and your clients. The focus of this class is to help you develop\, implement\, recognize\, and monitor plans to address issues long before problems arise that could put your business in jeopardy. Learn about critical aspects of Federal and State law including fair housing\, license\, risk management and agency. \n	\n\n\n\n\n	\n	\n				\n		Presented by\n							\n								\n									\n					\n				John Wait\n														General Counsel	\n														\n														NC REALTORS®	\n											\n							\n					John Wait joined NC REALTORS® in 2015. He previously worked solo at his own firm and clerked for several judges at the North Carolina Court of Appeals. When he’s not answering Hotline questions\, he practices law at Martin & Gifford and enjoys playing soccer\, mountain biking\, road cycling\, triathlons\, and spending time with his family. \nYou can find John on: \n\nWebsite
URL:https://www.ncrealtors.org/event/082725-legal-risks-in-real-estate/
LOCATION:Virtual
CATEGORIES:CE Courses,Designations & Certifications,Fair Housing,GRI,Legal & Ethics
ATTACH;FMTTYPE=image/jpeg:https://www.ncrealtors.org/wp-content/uploads/LegalRisksinRealEstate_FeatureImage.jpg
END:VEVENT
END:VCALENDAR