BEGIN:VCALENDAR
VERSION:2.0
PRODID:-//NC REALTORS® - ECPv6.15.16.1//NONSGML v1.0//EN
CALSCALE:GREGORIAN
METHOD:PUBLISH
X-ORIGINAL-URL:https://www.ncrealtors.org
X-WR-CALDESC:Events for NC REALTORS®
REFRESH-INTERVAL;VALUE=DURATION:PT1H
X-Robots-Tag:noindex
X-PUBLISHED-TTL:PT1H
BEGIN:VTIMEZONE
TZID:America/New_York
BEGIN:DAYLIGHT
TZOFFSETFROM:-0500
TZOFFSETTO:-0400
TZNAME:EDT
DTSTART:20250309T070000
END:DAYLIGHT
BEGIN:STANDARD
TZOFFSETFROM:-0400
TZOFFSETTO:-0500
TZNAME:EST
DTSTART:20251102T060000
END:STANDARD
BEGIN:DAYLIGHT
TZOFFSETFROM:-0500
TZOFFSETTO:-0400
TZNAME:EDT
DTSTART:20260308T070000
END:DAYLIGHT
BEGIN:STANDARD
TZOFFSETFROM:-0400
TZOFFSETTO:-0500
TZNAME:EST
DTSTART:20261101T060000
END:STANDARD
BEGIN:DAYLIGHT
TZOFFSETFROM:-0500
TZOFFSETTO:-0400
TZNAME:EDT
DTSTART:20270314T070000
END:DAYLIGHT
BEGIN:STANDARD
TZOFFSETFROM:-0400
TZOFFSETTO:-0500
TZNAME:EST
DTSTART:20271107T060000
END:STANDARD
END:VTIMEZONE
BEGIN:VEVENT
DTSTART;TZID=America/New_York:20260211T090000
DTEND;TZID=America/New_York:20260211T160000
DTSTAMP:20260420T103050
CREATED:20260108T222404Z
LAST-MODIFIED:20260108T222413Z
UID:10000339-1770800400-1770825600@www.ncrealtors.org
SUMMARY:Virtual | Professional Standards/COE Training
DESCRIPTION:REGISTRATION FOR THIS CLASS HAS CLOSED.  \nJoin Stephanie Walker\, an expert on the Code of Ethics and professional standards matters\, in a one day (9:00am to 4:00 pm) long seminar covering the Code of Ethics and processes to enforce the Code. \nAbout the Class: This class will cover the foundation of the Professional Standards process and the latest changes to the Code of Ethics. The class will provide advanced training on how to write a quality Findings of Fact and high-level training for Hearing Panel Chairpersons. \nWho Should Attend? Anyone and everyone!  While the Professional Standards Training has traditionally been aimed at members of local REALTOR® board/association BODs and Grievance and Professional Standards Committees\, the class also fulfills the National Association of REALTORS® (NAR) ethics training requirement. \n\nThis class provides the following credit: 4 Hours of CE & NAR’s Code of Ethics training \n	\n\n\n\n\n	\n	\n				\n		Presented by\n							\n								\n									\n					\n				Stephanie Walker\n														Owner/President	\n														\n														Stephanie Walker & Associates	\n											\n							\n					Stephanie has been in the real estate business for more than 3 decades. Stephanie holds a number of NAR Designations and is trained in both REALTOR® and Superior Court Mediation. She is a past President of both the Outer Banks Association of REALTORS® and the North Carolina Association of REALTORS®.  In 2016\, Stephanie was honored as the NC REALTORS® REALTOR® of the Year. \nHer experiences\, both in the field and volunteering at all levels of the REALTOR® association\, give her plenty of real life\, in the trenches stories to  supplement her courses with actual scenarios that bring relevance\, substance\, and humor to attendees.
URL:https://www.ncrealtors.org/event/021126-professional-standards-coe-training/
LOCATION:Virtual
CATEGORIES:CE Courses,Legal & Ethics
ATTACH;FMTTYPE=image/jpeg:https://www.ncrealtors.org/wp-content/uploads/2025_ProfessionalStandards-COETraining_FeatureImage.jpg
END:VEVENT
BEGIN:VEVENT
DTSTART;TZID=America/New_York:20260213T090000
DTEND;TZID=America/New_York:20260213T130000
DTSTAMP:20260420T103050
CREATED:20251219T155415Z
LAST-MODIFIED:20251219T155421Z
UID:10000345-1770973200-1770987600@www.ncrealtors.org
SUMMARY:Virtual | Legal Risks in Real Estate
DESCRIPTION:Real estate is risky business! That’s why you need all the right tools and information to manage the risks. This protects you\, your livelihood and your clients. The focus of this class is to help you develop\, implement\, recognize\, and monitor plans to address issues long before problems arise that could put your business in jeopardy. Learn about critical aspects of Federal and State law including fair housing\, license\, risk management and agency. \n\nThis class provides the following credit: 4 Hours of CE & GRI Designation \nMember Price (with CE): $70.00\nMember Price (no CE): $60.00 \nNon-Member Price (with CE): $80.00\nNon-Member Price (no CE): $70.00 \n	\n\n\n\n\n	\n	\n				\n		Presented by\n							\n								\n									\n					\n				John Wait\n														General Counsel	\n														\n														NC REALTORS®	\n											\n							\n					John Wait joined NC REALTORS® in 2015. He previously worked solo at his own firm and clerked for several judges at the North Carolina Court of Appeals. When he’s not answering Hotline questions\, he practices law at Martin & Gifford and enjoys playing soccer\, mountain biking\, road cycling\, triathlons\, and spending time with his family. \nYou can find John on: \n\nWebsite
URL:https://www.ncrealtors.org/event/021326-legal-risks-in-real-estate/
LOCATION:Virtual
CATEGORIES:CE Courses,Designations & Certifications,Fair Housing,GRI,Legal & Ethics
ATTACH;FMTTYPE=image/jpeg:https://www.ncrealtors.org/wp-content/uploads/LegalRisksinRealEstate_FeatureImage.jpg
END:VEVENT
BEGIN:VEVENT
DTSTART;TZID=America/New_York:20260217T090000
DTEND;TZID=America/New_York:20260217T160000
DTSTAMP:20260420T103050
CREATED:20251201T213947Z
LAST-MODIFIED:20251201T213951Z
UID:10000340-1771318800-1771344000@www.ncrealtors.org
SUMMARY:Virtual | Professional Standards/COE Training
DESCRIPTION:Join Stephanie Walker\, an expert on the Code of Ethics and professional standards matters\, in a one day (9:00am to 4:00 pm) long seminar covering the Code of Ethics and processes to enforce the Code. \nAbout the Class: This class will cover the foundation of the Professional Standards process and the latest changes to the Code of Ethics. The class will provide advanced training on how to write a quality Findings of Fact and high-level training for Hearing Panel Chairpersons. \nWho Should Attend? Anyone and everyone!  While the Professional Standards Training has traditionally been aimed at members of local REALTOR® board/association BODs and Grievance and Professional Standards Committees\, the class also fulfills the National Association of REALTORS® (NAR) ethics training requirement. \n\nThis class provides the following credit: 4 Hours of CE & NAR’s Code of Ethics training \n	\n\n\n\n\n	\n	\n				\n		Presented by\n							\n								\n									\n					\n				Stephanie Walker\n														Owner/President	\n														\n														Stephanie Walker & Associates	\n											\n							\n					Stephanie has been in the real estate business for more than 3 decades. Stephanie holds a number of NAR Designations and is trained in both REALTOR® and Superior Court Mediation. She is a past President of both the Outer Banks Association of REALTORS® and the North Carolina Association of REALTORS®.  In 2016\, Stephanie was honored as the NC REALTORS® REALTOR® of the Year. \nHer experiences\, both in the field and volunteering at all levels of the REALTOR® association\, give her plenty of real life\, in the trenches stories to  supplement her courses with actual scenarios that bring relevance\, substance\, and humor to attendees.
URL:https://www.ncrealtors.org/event/021726-professional-standards-coe-training/
LOCATION:Virtual
CATEGORIES:CE Courses,Legal & Ethics
ATTACH;FMTTYPE=image/jpeg:https://www.ncrealtors.org/wp-content/uploads/2025_ProfessionalStandards-COETraining_FeatureImage.jpg
END:VEVENT
END:VCALENDAR