BEGIN:VCALENDAR
VERSION:2.0
PRODID:-//NC REALTORS® - ECPv6.15.16.1//NONSGML v1.0//EN
CALSCALE:GREGORIAN
METHOD:PUBLISH
X-ORIGINAL-URL:https://www.ncrealtors.org
X-WR-CALDESC:Events for NC REALTORS®
REFRESH-INTERVAL;VALUE=DURATION:PT1H
X-Robots-Tag:noindex
X-PUBLISHED-TTL:PT1H
BEGIN:VTIMEZONE
TZID:America/New_York
BEGIN:DAYLIGHT
TZOFFSETFROM:-0500
TZOFFSETTO:-0400
TZNAME:EDT
DTSTART:20240310T070000
END:DAYLIGHT
BEGIN:STANDARD
TZOFFSETFROM:-0400
TZOFFSETTO:-0500
TZNAME:EST
DTSTART:20241103T060000
END:STANDARD
BEGIN:DAYLIGHT
TZOFFSETFROM:-0500
TZOFFSETTO:-0400
TZNAME:EDT
DTSTART:20250309T070000
END:DAYLIGHT
BEGIN:STANDARD
TZOFFSETFROM:-0400
TZOFFSETTO:-0500
TZNAME:EST
DTSTART:20251102T060000
END:STANDARD
BEGIN:DAYLIGHT
TZOFFSETFROM:-0500
TZOFFSETTO:-0400
TZNAME:EDT
DTSTART:20260308T070000
END:DAYLIGHT
BEGIN:STANDARD
TZOFFSETFROM:-0400
TZOFFSETTO:-0500
TZNAME:EST
DTSTART:20261101T060000
END:STANDARD
END:VTIMEZONE
BEGIN:VEVENT
DTSTART;TZID=America/New_York:20250122T130000
DTEND;TZID=America/New_York:20250122T140000
DTSTAMP:20260421T074023
CREATED:20250107T162949Z
LAST-MODIFIED:20250107T163816Z
UID:10000221-1737550800-1737554400@www.ncrealtors.org
SUMMARY:Partner Webinar | Wise Agent
DESCRIPTION:The 2025 Real Estate Roadmap: Trends\, Tools\, and Tactics for Success \nKick off 2025 with Becoming a Wise Agent\, a webinar series designed specifically for REALTORS® looking to stay ahead of the curve! \nIn this episode\, Wise Agent CEO Brandon Wise\, is joined by Mike and Bobby\, #1 Title & Escrow team from Chicago Title! Together\, these industry experts will uncover emerging trends\, must-have tools\, and proven strategies to give you the competitive edge you need in the year ahead. \nWhether you’re aiming to strengthen client relationships or navigate market challenges\, this session will be packed with actionable insights that can make a real impact on your business.
URL:https://www.ncrealtors.org/event/012225-webinar-wise-agent/
LOCATION:Virtual
CATEGORIES:Partner,Webinars & Mobile Mondays
ATTACH;FMTTYPE=image/png:https://www.ncrealtors.org/wp-content/uploads/012225-WiseAgent-webinar_540x432.png
END:VEVENT
END:VCALENDAR