BEGIN:VCALENDAR
VERSION:2.0
PRODID:-//NC REALTORS® - ECPv6.15.16.1//NONSGML v1.0//EN
CALSCALE:GREGORIAN
METHOD:PUBLISH
X-WR-CALNAME:NC REALTORS®
X-ORIGINAL-URL:https://www.ncrealtors.org
X-WR-CALDESC:Events for NC REALTORS®
REFRESH-INTERVAL;VALUE=DURATION:PT1H
X-Robots-Tag:noindex
X-PUBLISHED-TTL:PT1H
BEGIN:VTIMEZONE
TZID:America/New_York
BEGIN:DAYLIGHT
TZOFFSETFROM:-0500
TZOFFSETTO:-0400
TZNAME:EDT
DTSTART:20240310T070000
END:DAYLIGHT
BEGIN:STANDARD
TZOFFSETFROM:-0400
TZOFFSETTO:-0500
TZNAME:EST
DTSTART:20241103T060000
END:STANDARD
BEGIN:DAYLIGHT
TZOFFSETFROM:-0500
TZOFFSETTO:-0400
TZNAME:EDT
DTSTART:20250309T070000
END:DAYLIGHT
BEGIN:STANDARD
TZOFFSETFROM:-0400
TZOFFSETTO:-0500
TZNAME:EST
DTSTART:20251102T060000
END:STANDARD
BEGIN:DAYLIGHT
TZOFFSETFROM:-0500
TZOFFSETTO:-0400
TZNAME:EDT
DTSTART:20260308T070000
END:DAYLIGHT
BEGIN:STANDARD
TZOFFSETFROM:-0400
TZOFFSETTO:-0500
TZNAME:EST
DTSTART:20261101T060000
END:STANDARD
BEGIN:DAYLIGHT
TZOFFSETFROM:-0500
TZOFFSETTO:-0400
TZNAME:EDT
DTSTART:20270314T070000
END:DAYLIGHT
BEGIN:STANDARD
TZOFFSETFROM:-0400
TZOFFSETTO:-0500
TZNAME:EST
DTSTART:20271107T060000
END:STANDARD
END:VTIMEZONE
BEGIN:VEVENT
DTSTART;TZID=America/New_York:20251014T120000
DTEND;TZID=America/New_York:20251014T130000
DTSTAMP:20260419T110807
CREATED:20251003T133609Z
LAST-MODIFIED:20251003T133713Z
UID:10000323-1760443200-1760446800@www.ncrealtors.org
SUMMARY:Partner Webinar | Boost Your Listings with AI-Powered OLIVIA AI AudioTours
DESCRIPTION:NC REALTORS® members — ready to make your listings stand out? \nJoin us for a quick\, powerful webinar introducing DO AudioTours with OLIVIA AI. The AI-driven tool that turns your listing photos and descriptions into dynamic\, multi-language audio-visual and now conversational property tours—automatically. Don’t miss this exclusive NC member opportunity to work smarter\, not harder. \nOLIVIA AI: the real estate voice concierge that answers buyer questions in real time (in 100+ languages) and connects leads directly to you. \nIn this webinar\, you’ll learn how to: \n\nEngage more buyers with multi-lingual\, ADA-friendly\, interactive AudioTours\nCapture leads 24/7 with OLIVIA AI\n\nLEARN MORE ABOUT THE REALTOR® PARTNERS PROGRAM
URL:https://www.ncrealtors.org/event/101425-partner-webinar/
LOCATION:Virtual
CATEGORIES:Partner,Webinars & Mobile Mondays
ATTACH;FMTTYPE=image/png:https://www.ncrealtors.org/wp-content/uploads/DOAudioTours_375x74.png
END:VEVENT
BEGIN:VEVENT
DTSTART;TZID=America/New_York:20251016T150000
DTEND;TZID=America/New_York:20251016T160000
DTSTAMP:20260419T110807
CREATED:20251010T145947Z
LAST-MODIFIED:20251010T145954Z
UID:10000324-1760626800-1760630400@www.ncrealtors.org
SUMMARY:Partner Webinar | Your AI Twin: Creating Endless Portraits and Videos
DESCRIPTION:Join Roomvu for this session to see how top agents are using AI twins to save time\, boost visibility\, and build stronger connections with their audience—without being on camera every single time. \nLEARN MORE ABOUT THE REALTOR® PARTNERS PROGRAM
URL:https://www.ncrealtors.org/event/101625-partner-webinar/
LOCATION:Virtual
CATEGORIES:Partner,Webinars & Mobile Mondays
ATTACH;FMTTYPE=image/jpeg:https://www.ncrealtors.org/wp-content/uploads/roomvu-online-training_FeatureImage.jpg
END:VEVENT
BEGIN:VEVENT
DTSTART;TZID=America/New_York:20251118T130000
DTEND;TZID=America/New_York:20251118T140000
DTSTAMP:20260419T110807
CREATED:20251031T145633Z
LAST-MODIFIED:20251031T145829Z
UID:10000325-1763470800-1763474400@www.ncrealtors.org
SUMMARY:Partner Webinar | 10X Your Social Media Reach with Your AI Clone & Avatar
DESCRIPTION:Join Roomvu for this eye-opening session to see how your AI Clone & Avatar can create videos that look and sound just like you\, post automatically\, and keep you visible every day. \nLEARN MORE ABOUT THE REALTOR® PARTNERS PROGRAM \n 
URL:https://www.ncrealtors.org/event/111825-partner-webinar/
LOCATION:Virtual
CATEGORIES:Partner,Webinars & Mobile Mondays
ATTACH;FMTTYPE=image/jpeg:https://www.ncrealtors.org/wp-content/uploads/111825-Roomvu-Webinar_FeatureImage.jpg
END:VEVENT
BEGIN:VEVENT
DTSTART;TZID=America/New_York:20251216T150000
DTEND;TZID=America/New_York:20251216T160000
DTSTAMP:20260419T110807
CREATED:20251212T205024Z
LAST-MODIFIED:20251212T205230Z
UID:10000344-1765897200-1765900800@www.ncrealtors.org
SUMMARY:Partner Webinar | Authentic Content Made Easy with Your AI Clone & Avatar
DESCRIPTION:Discover how to create real\, personal content without spending hours filming or editing. In this session\, we’ll show you how your AI Clone & Avatar can help you stay consistent\, show up online effortlessly\, and deliver authentic videos that look and sound like you—so you can focus on your clients while your content works in the background. \nLEARN MORE ABOUT THE REALTOR® PARTNERS PROGRAM \n 
URL:https://www.ncrealtors.org/event/121625-roomvu-webinar/
LOCATION:Virtual
CATEGORIES:Partner,Webinars & Mobile Mondays
ATTACH;FMTTYPE=image/jpeg:https://www.ncrealtors.org/wp-content/uploads/roomvu-online-training_FeatureImage.jpg
END:VEVENT
BEGIN:VEVENT
DTSTART;TZID=America/New_York:20260218T150000
DTEND;TZID=America/New_York:20260218T160000
DTSTAMP:20260419T110807
CREATED:20260202T174000Z
LAST-MODIFIED:20260202T174135Z
UID:10000355-1771426800-1771430400@www.ncrealtors.org
SUMMARY:Partner Webinar | Instagram Mastery for REALTORS®: Grow Your Brand with AI-Powered Content
DESCRIPTION:Join Roomvu to learn how to dominate Instagram with scroll-stopping videos\, Stories\, and Reels — all created and optimized using AI. We’ll show you what to post\, how often\, and how to convert views into real clients without spending hours editing. \nLEARN MORE ABOUT THE REALTOR® PARTNERS PROGRAM \n 
URL:https://www.ncrealtors.org/event/021826-partner-webinar/
LOCATION:Virtual
CATEGORIES:Partner,Webinars & Mobile Mondays
ATTACH;FMTTYPE=image/jpeg:https://www.ncrealtors.org/wp-content/uploads/roomvu-online-training_FeatureImage.jpg
END:VEVENT
BEGIN:VEVENT
DTSTART;TZID=America/New_York:20260326T110000
DTEND;TZID=America/New_York:20260326T120000
DTSTAMP:20260419T110807
CREATED:20260313T154526Z
LAST-MODIFIED:20260313T154534Z
UID:10000366-1774522800-1774526400@www.ncrealtors.org
SUMMARY:Partner Webinar | RentSpree: The Digital Guardrail to Secure Your Business & Clients
DESCRIPTION:Are you ready to secure your rental business and protect your clients from liability? \nJoin us for an exclusive webinar with RentSpree where you’ll learn how to implement a “Digital Guardrail” for your rental workflows\, ensuring a new standard of security and consistency. \nIn this webinar\, you will discover how to: \n\nMinimize Liability: Replace manual\, inconsistent screening with a streamlined\, objective\, tech-driven standard.\nEnsure Consistency: Implement a clear\, uniform process for every listing\, reducing room for error and bias.\nSimplify Workflows: See how RentSpree simplifies your rental tasks so you can focus on closing deals\, just in time for Fair Housing Month.\n\nDon’t miss this opportunity to install the “Digital Guardrail” your business needs to operate with security\, consistency\, and confidence. \nLEARN MORE ABOUT THE REALTOR® PARTNERS PROGRAM \n 
URL:https://www.ncrealtors.org/event/032626-partner-webinar/
LOCATION:Virtual
CATEGORIES:Partner,Webinars & Mobile Mondays
END:VEVENT
BEGIN:VEVENT
DTSTART;TZID=America/New_York:20260331T130000
DTEND;TZID=America/New_York:20260331T140000
DTSTAMP:20260419T110807
CREATED:20260320T183232Z
LAST-MODIFIED:20260320T183418Z
UID:10000369-1774962000-1774965600@www.ncrealtors.org
SUMMARY:Partner Webinar | Facebook for Real Estate: Automate Engagement & Stay Top-of-Mind with AI
DESCRIPTION:Join Roomvu and discover how top agents leverage Facebook to generate consistent visibility and client trust. This session covers AI-driven posting\, targeted content\, automated follow-ups\, and strategies to turn your page into a lead-generation machine. \n\nLEARN MORE ABOUT THE REALTOR® PARTNERS PROGRAM \n 
URL:https://www.ncrealtors.org/event/033126-partner-webinar/
LOCATION:Virtual
CATEGORIES:Partner,Webinars & Mobile Mondays
ATTACH;FMTTYPE=image/jpeg:https://www.ncrealtors.org/wp-content/uploads/roomvu-online-training_FeatureImage.jpg
END:VEVENT
BEGIN:VEVENT
DTSTART;TZID=America/New_York:20260430T130000
DTEND;TZID=America/New_York:20260430T140000
DTSTAMP:20260419T110807
CREATED:20260410T200924Z
LAST-MODIFIED:20260410T200929Z
UID:10000373-1777554000-1777557600@www.ncrealtors.org
SUMMARY:Partner Webinar | Email Marketing for REALTORS®: Increase Open Rates\, Engagement & Listings with AI
DESCRIPTION:Unlock the power of automated email campaigns designed specifically for real estate. Roomvu will show you how AI creates high-performing newsletters\, market updates\, and follow-ups — helping you nurture past clients and stay top-of-mind year-round. \n\nLEARN MORE ABOUT THE REALTOR® PARTNERS PROGRAM \n 
URL:https://www.ncrealtors.org/event/043026-partner-webinar/
LOCATION:Virtual
CATEGORIES:Partner,Webinars & Mobile Mondays
ATTACH;FMTTYPE=image/jpeg:https://www.ncrealtors.org/wp-content/uploads/roomvu-online-training_FeatureImage.jpg
END:VEVENT
END:VCALENDAR