BEGIN:VCALENDAR
VERSION:2.0
PRODID:-//NC REALTORS® - ECPv6.15.16.1//NONSGML v1.0//EN
CALSCALE:GREGORIAN
METHOD:PUBLISH
X-WR-CALNAME:NC REALTORS®
X-ORIGINAL-URL:https://www.ncrealtors.org
X-WR-CALDESC:Events for NC REALTORS®
REFRESH-INTERVAL;VALUE=DURATION:PT1H
X-Robots-Tag:noindex
X-PUBLISHED-TTL:PT1H
BEGIN:VTIMEZONE
TZID:America/New_York
BEGIN:DAYLIGHT
TZOFFSETFROM:-0500
TZOFFSETTO:-0400
TZNAME:EDT
DTSTART:20250309T070000
END:DAYLIGHT
BEGIN:STANDARD
TZOFFSETFROM:-0400
TZOFFSETTO:-0500
TZNAME:EST
DTSTART:20251102T060000
END:STANDARD
BEGIN:DAYLIGHT
TZOFFSETFROM:-0500
TZOFFSETTO:-0400
TZNAME:EDT
DTSTART:20260308T070000
END:DAYLIGHT
BEGIN:STANDARD
TZOFFSETFROM:-0400
TZOFFSETTO:-0500
TZNAME:EST
DTSTART:20261101T060000
END:STANDARD
BEGIN:DAYLIGHT
TZOFFSETFROM:-0500
TZOFFSETTO:-0400
TZNAME:EDT
DTSTART:20270314T070000
END:DAYLIGHT
BEGIN:STANDARD
TZOFFSETFROM:-0400
TZOFFSETTO:-0500
TZNAME:EST
DTSTART:20271107T060000
END:STANDARD
BEGIN:DAYLIGHT
TZOFFSETFROM:-0500
TZOFFSETTO:-0400
TZNAME:EDT
DTSTART:20280312T070000
END:DAYLIGHT
BEGIN:STANDARD
TZOFFSETFROM:-0400
TZOFFSETTO:-0500
TZNAME:EST
DTSTART:20281105T060000
END:STANDARD
END:VTIMEZONE
BEGIN:VEVENT
DTSTART;TZID=America/New_York:20260907T083000
DTEND;TZID=America/New_York:20260907T170000
DTSTAMP:20260419T170156
CREATED:20251119T215708Z
LAST-MODIFIED:20251119T215713Z
UID:10000334-1788769800-1788800400@www.ncrealtors.org
SUMMARY:Office Closed - Labor Day
DESCRIPTION:The NC REALTORS® offices will be closed in observance of Labor Day.
URL:https://www.ncrealtors.org/event/office-closed-labor-day-2026/
LOCATION:NC
CATEGORIES:Office Closings
ATTACH;FMTTYPE=image/jpeg:https://www.ncrealtors.org/wp-content/uploads/LaborDay_FeatureImage.jpg
END:VEVENT
BEGIN:VEVENT
DTSTART;TZID=America/New_York:20260915T000000
DTEND;TZID=America/New_York:20260917T233000
DTSTAMP:20260419T170156
CREATED:20250709T200855Z
LAST-MODIFIED:20250709T200900Z
UID:10000294-1789430400-1789687800@www.ncrealtors.org
SUMMARY:Virtual | NC REALTORS® Business & Committee Meetings
DESCRIPTION:
URL:https://www.ncrealtors.org/special-events/virtual-meetings/
LOCATION:Virtual
CATEGORIES:Annual Events
END:VEVENT
BEGIN:VEVENT
DTSTART;TZID=America/New_York:20261008T000000
DTEND;TZID=America/New_York:20261011T235959
DTSTAMP:20260419T170156
CREATED:20251027T204315Z
LAST-MODIFIED:20251027T204319Z
UID:10000297-1791417600-1791763199@www.ncrealtors.org
SUMMARY:Event | 2026 NC REALTORS® Convention
DESCRIPTION:Registration launches May 13\, 2026 \nMORE INFORMATION
URL:https://www.ncrealtors.org/event/2026-nc-realtors-convention/
LOCATION:Wilmington Convention Center\, 10 Convention Center Dr\, Wilmington\, NC\, 28401
CATEGORIES:Annual Events
END:VEVENT
BEGIN:VEVENT
DTSTART;TZID=America/New_York:20261126T083000
DTEND;TZID=America/New_York:20261127T170000
DTSTAMP:20260419T170156
CREATED:20251119T215918Z
LAST-MODIFIED:20251119T215924Z
UID:10000335-1795681800-1795798800@www.ncrealtors.org
SUMMARY:Office Closed - Thanksgiving
DESCRIPTION:The NC REALTORS® offices will be closed in observance of Thanksgiving.
URL:https://www.ncrealtors.org/event/office-closed-thanksgiving-2026/
LOCATION:NC
CATEGORIES:Office Closings
ATTACH;FMTTYPE=image/jpeg:https://www.ncrealtors.org/wp-content/uploads/Thanksgiving_FeatureImage.jpg
END:VEVENT
BEGIN:VEVENT
DTSTART;TZID=America/New_York:20261224T083000
DTEND;TZID=America/New_York:20270101T170000
DTSTAMP:20260419T170156
CREATED:20251119T220218Z
LAST-MODIFIED:20251119T220225Z
UID:10000336-1798101000-1798822800@www.ncrealtors.org
SUMMARY:Office Closed - Winter Holidays
DESCRIPTION:The NC REALTORS® offices will be closed in observance of the winter holidays.
URL:https://www.ncrealtors.org/event/office-closed-winter-holidays-2026/
LOCATION:NC
CATEGORIES:Office Closings
ATTACH;FMTTYPE=image/jpeg:https://www.ncrealtors.org/wp-content/uploads/2022HappyHolidays_FeaturedImage.jpg
END:VEVENT
BEGIN:VEVENT
DTSTART;TZID=America/New_York:20270214T000000
DTEND;TZID=America/New_York:20270221T235959
DTSTAMP:20260419T170156
CREATED:20260413T190439Z
LAST-MODIFIED:20260416T184653Z
UID:10000374-1802563200-1803254399@www.ncrealtors.org
SUMMARY:In-Person | CE at Sea
DESCRIPTION:Set sail with NC REALTORS® on one of the most amazing cruise ships for our annual CE at Sea educational adventure\, February 14 to February 21\, 2027. \nNot only will you explore the Western Caribbean with your NC REALTORS® colleagues\, but you’ll also get the unique opportunity to complete your 2027 Continuing Education at sea with instructor Mark Saunders. \n	\n\n\n\n\n\n\n	\n	\n				\n		Presented by\n							\n								\n									\n					\n				Mark Saunders\n														\n														Real Estate Brokers Academy	\n											\n							\n					Mark Saunders is a graduate of Appalachian State University and became a full-time REALTOR® in 2005. \nHe serves the REALTOR® community by participating on the Board of Directors for the Winston-Salem Association of REALTORS® and the North Carolina Association of REALTORS®. He is also a member of the North Carolina Association of REALTORS® Young Professionals Network\, serving as vice-chair in 2014 and chair in 2015. \nMark has received a number of awards and forms of recognition in his career\, which include: \n\n2010 Winston-Salem Association of REALTORS® Presidents Award for Outstanding Service and Dedication in the field of property management.\n2013 National Association of REALTORS® Young Professionals Network of the Year winner\n2013 Winston-Salem Association of REALTORS® Presidents Award for Outstanding Service and Dedication to the local association\n2016 Winston-Salem Association of REALTORS® Property Manager of the year\,\n2016 NC REALTOR® Innovation & Entrepreneurial Excellence Award\n2018 was selected to the 2018 Triad Business Journal 40 under 40 Business Leaders Class\n\nFind Mark on: \n\nWebsite\nLinkedIn\nYouTube\nX\nFacebook\nInstagram
URL:https://www.ncrealtors.org/event/2027-ce-at-sea/
LOCATION:NC
CATEGORIES:CE Courses,Property Management - PMD
ATTACH;FMTTYPE=image/jpeg:https://www.ncrealtors.org/wp-content/uploads/2027CEatSea_FeatureImage.jpg
END:VEVENT
END:VCALENDAR