BEGIN:VCALENDAR
VERSION:2.0
PRODID:-//NC REALTORS® - ECPv6.15.16.1//NONSGML v1.0//EN
CALSCALE:GREGORIAN
METHOD:PUBLISH
X-WR-CALNAME:NC REALTORS®
X-ORIGINAL-URL:https://www.ncrealtors.org
X-WR-CALDESC:Events for NC REALTORS®
REFRESH-INTERVAL;VALUE=DURATION:PT1H
X-Robots-Tag:noindex
X-PUBLISHED-TTL:PT1H
BEGIN:VTIMEZONE
TZID:America/New_York
BEGIN:DAYLIGHT
TZOFFSETFROM:-0500
TZOFFSETTO:-0400
TZNAME:EDT
DTSTART:20230312T070000
END:DAYLIGHT
BEGIN:STANDARD
TZOFFSETFROM:-0400
TZOFFSETTO:-0500
TZNAME:EST
DTSTART:20231105T060000
END:STANDARD
BEGIN:DAYLIGHT
TZOFFSETFROM:-0500
TZOFFSETTO:-0400
TZNAME:EDT
DTSTART:20240310T070000
END:DAYLIGHT
BEGIN:STANDARD
TZOFFSETFROM:-0400
TZOFFSETTO:-0500
TZNAME:EST
DTSTART:20241103T060000
END:STANDARD
BEGIN:DAYLIGHT
TZOFFSETFROM:-0500
TZOFFSETTO:-0400
TZNAME:EDT
DTSTART:20250309T070000
END:DAYLIGHT
BEGIN:STANDARD
TZOFFSETFROM:-0400
TZOFFSETTO:-0500
TZNAME:EST
DTSTART:20251102T060000
END:STANDARD
END:VTIMEZONE
BEGIN:VTIMEZONE
TZID:UTC
BEGIN:STANDARD
TZOFFSETFROM:+0000
TZOFFSETTO:+0000
TZNAME:UTC
DTSTART:20230101T000000
END:STANDARD
END:VTIMEZONE
BEGIN:VEVENT
DTSTART;TZID=America/New_York:20240205T130000
DTEND;TZID=America/New_York:20240205T133000
DTSTAMP:20260420T001958
CREATED:20240111T213911Z
LAST-MODIFIED:20240116T215138Z
UID:10000093-1707138000-1707139800@www.ncrealtors.org
SUMMARY:Mobile Mondays | Stop Asking "Is This Tax Deductible?"
DESCRIPTION:Tax Tips with Gregory Antipoff \, The Real Estate Accountant \nHow often do you ask yourself or your tax advisor\, “Is this tax deductible?” In this session you will learn how to ask a much better version of that question that can save you thousands. Join us to find out how to make almost anything tax deductible. We’ll also bust some of the most common myths about what is deductible for Agents. Be sure to bring your “Is this deductible?” questions! \nJoin the Facebook Group (You must answer three questions before being approved.)
URL:https://www.ncrealtors.org/event/mobile-mondays-stop-asking-is-this-tax-deductible/
LOCATION:Facebook
CATEGORIES:Webinars & Mobile Mondays
ATTACH;FMTTYPE=image/jpeg:https://www.ncrealtors.org/wp-content/uploads/MobileMondays020524_FeatureImage.jpg
END:VEVENT
BEGIN:VEVENT
DTSTART;TZID=America/New_York:20240213T090000
DTEND;TZID=America/New_York:20240213T130000
DTSTAMP:20260420T001958
CREATED:20231212T151805Z
LAST-MODIFIED:20231227T161232Z
UID:10000082-1707814800-1707829200@www.ncrealtors.org
SUMMARY:Virtual | Financing in Today’s Market
DESCRIPTION:Don’t just open doors for your clients\, help them walk through it by best representing their needs -Including financing options! As a broker\, you need to be the expert in ALL aspects of the home-buying process\, including the best financing and down payment options. Give your client the top-notch service they deserve and start winning those deals. \n\nThis class provides the following credit: 4 hours of CE & GRI designation \nMember Registration (with CE): $70\nNon-member Registration (with CE): $80 \n	\n\n\n\n\n\n\n	\n	\n				\n		Presented by\n							\n								\n									\n					\n				Stephen Long\n														\n											\n							\n					Stephen is a 15-year veteran of real estate. Over the years\, he has added a Property Management Division to his company and co-founded The Carolina Crew\, Inc. a real estate team affiliated with Keller Williams Realty Elite in Winston-Salem\, NC. \nStephen teaches Pre & Post License\, CE\, and owns his own real estate school\, Crew Academy of Real Estate (CARE). With a renewed love for education\, Stephen spends many days of the year teaching and speaking\, all the while nursing sales and putting out property management fires.
URL:https://www.ncrealtors.org/event/021324-financing-in-todays-market/
LOCATION:Virtual
CATEGORIES:CE Courses,Designations & Certifications,GRI
ATTACH;FMTTYPE=image/jpeg:https://www.ncrealtors.org/wp-content/uploads/FinancinginTodaysMarket_FeatureImage-1.jpg
END:VEVENT
BEGIN:VEVENT
DTSTART;TZID=America/New_York:20240214T090000
DTEND;TZID=America/New_York:20240214T130000
DTSTAMP:20260420T001958
CREATED:20240117T200428Z
LAST-MODIFIED:20240117T200431Z
UID:10000095-1707901200-1707915600@www.ncrealtors.org
SUMMARY:Virtual | The Road to the Perfect Contract
DESCRIPTION:The Road to the Perfect Contract is a class that every broker will benefit from! This course will decipher the many parts of the Buyer Agency Agreement and the Offer to Purchase and Contract. You’ll walk out with the full understanding of the requirements of proper representation\, tips on how to avoid miscommunication when entering into a Buyer Agency Agreement\, utilize forms properly\, and establish a working relationship with an unrepresented seller. \n\nThis class provides the following credit: 4 Hours of CE & GRI Designation \nGRRA Member Price (with CE): FREE\nNon-GRRA member Price (with CE): $55.00 \n	\n\n\n\n\n\n\n	\n	\n				\n		Presented by\n							\n								\n									\n					\n				Patrice Willetts\n														\n											\n							\n					Patrice began her real estate career in 1985. After 30+ years of volunteering and advocating for things she believes in\, her motto is “Been there\, Done That\, Got the T-shirt”.  She is a past President of both Cape Fear REALTORS® and President of NC REALTORS®.  She is a graduate of the NC REALTORS® & NAR’s Leadership Academy. \nPatrice is always looking for ways to raise the bar of professionalism for our members. She is an approved instructor for the NCREC and teaches NAR and REBI designation and certification courses.
URL:https://www.ncrealtors.org/event/021424-the-road-to-the-perfect-contract/
LOCATION:Virtual
CATEGORIES:CE Courses,Designations & Certifications,GRI
ATTACH;FMTTYPE=image/jpeg:https://www.ncrealtors.org/wp-content/uploads/RoadToThePerfectContract_FeatureImage-1.jpg
END:VEVENT
BEGIN:VEVENT
DTSTART;TZID=America/New_York:20240215T090000
DTEND;TZID=America/New_York:20240215T160000
DTSTAMP:20260420T001958
CREATED:20231031T205917Z
LAST-MODIFIED:20231031T205920Z
UID:10000068-1707987600-1708012800@www.ncrealtors.org
SUMMARY:Virtual | Professional Standards/COE Training
DESCRIPTION:4 hours of elective CE credit\nJoin Stephanie Walker\, an expert on the Code of Ethics and professional standards matters\, in a one day (9:00am to 4:00 pm) long seminar covering the Code of Ethics and processes to enforce the Code.  This course will be presented virtually. You will earn 4 hours of elective CE credit for completing this course. \nAbout the Class: This class will cover the foundation of the Professional Standards process and the latest changes to the Code of Ethics. The class will provide advanced training on how to write a quality Findings of Fact and high-level training for Hearing Panel Chairpersons. \nWho Should Attend? Anyone and everyone!  While the Professional Standards Training has traditionally been aimed at members of local REALTOR® board/association BODs and Grievance and Professional Standards Committees\, the class also fulfills the National Association of REALTORS® (NAR) ethics training requirement. \n	\n\n\n\n\n\n\n	\n	\n				\n		Presented by\n							\n								\n									\n					\n				Stephanie Walker\n														Owner/President	\n														\n														Stephanie Walker & Associates	\n											\n							\n					Stephanie has been in the real estate business for more than 3 decades. Stephanie holds a number of NAR Designations and is trained in both REALTOR® and Superior Court Mediation. She is a past President of both the Outer Banks Association of REALTORS® and the North Carolina Association of REALTORS®.  In 2016\, Stephanie was honored as the NC REALTORS® REALTOR® of the Year. \nHer experiences\, both in the field and volunteering at all levels of the REALTOR® association\, give her plenty of real life\, in the trenches stories to  supplement her courses with actual scenarios that bring relevance\, substance\, and humor to attendees.
URL:https://www.ncrealtors.org/event/virtual-professional-standards-coe-training-021524/
LOCATION:Virtual
CATEGORIES:CE Courses,Legal & Ethics
ATTACH;FMTTYPE=image/jpeg:https://www.ncrealtors.org/wp-content/uploads/ProfessionalStandardsandCodeofEthicsTraining_FeatureImage.jpg
END:VEVENT
BEGIN:VEVENT
DTSTART;TZID=America/New_York:20240219T083000
DTEND;TZID=America/New_York:20240219T170000
DTSTAMP:20260420T001958
CREATED:20231201T212226Z
LAST-MODIFIED:20231201T212229Z
UID:10000074-1708331400-1708362000@www.ncrealtors.org
SUMMARY:Office Closed - President's Day
DESCRIPTION:The NC REALTORS® offices will be closed in observance of President’s Day.
URL:https://www.ncrealtors.org/event/office-closed-presidents-day/
LOCATION:NC
CATEGORIES:Office Closings
ATTACH;FMTTYPE=image/jpeg:https://www.ncrealtors.org/wp-content/uploads/PresidentsDay_FeatureImage.jpg
END:VEVENT
BEGIN:VEVENT
DTSTART;TZID=America/New_York:20240221T101500
DTEND;TZID=America/New_York:20240221T133000
DTSTAMP:20260420T001958
CREATED:20240131T201915Z
LAST-MODIFIED:20240202T142800Z
UID:10000103-1708510500-1708522200@www.ncrealtors.org
SUMMARY:2024 NC CCIM Charlotte Market Forecast
DESCRIPTION:
URL:https://www.ncrealtors.org/event/2024-nc-ccim-charlotte-market-forecast/
LOCATION:Carmel Country Club\, 4735 Carmel Rd\, Charlotte\, NC\, 28226
CATEGORIES:Commercial
ATTACH;FMTTYPE=image/jpeg:https://www.ncrealtors.org/wp-content/uploads/Other-Events_CCIM_Featured-Image_Feb-21-540x315px.jpg
END:VEVENT
BEGIN:VEVENT
DTSTART;TZID=UTC:20240222T090000
DTEND;TZID=UTC:20240222T130000
DTSTAMP:20260420T001958
CREATED:20231220T145552Z
LAST-MODIFIED:20231227T160951Z
UID:10000087-1708592400-1708606800@www.ncrealtors.org
SUMMARY:Virtual | Sticking to the Code of Ethics
DESCRIPTION:Why does The Code matter today more than ever? The Code of Ethics is essential to doing your job with the highest integrity. This class reviews key articles of NARs COE\, highlights pertinent changes\, and offers important takeaway points you can apply to your day-to-day business dealings to ensure you’re always ethical in your business practices. \n\nThis class provides the following credit: 4 hours CE\, GRI designation & NAR’s Code of Ethics training requirement \nMember Price (with CE): $70.00\nNon-member Price (with CE): $80.00 \n	\n\n\n\n\n	\n	\n				\n		Presented by\n							\n								\n									\n					\n				Kristie Ferguson\n														\n											\n							\n					Kristie Ferguson has been a REALTOR® since 2005\, with experience spanning new construction\, custom homebuilding\, sales\, and education. Known for her engaging teaching style\, she simplifies complex concepts and equips agents with strategies to succeed in today’s market. Kristie holds several NAR designations\, including CRS and CIPS\, and has earned the Commitment to Excellence endorsement from the National Association of REALTORS®. She is a proud graduate of the NC REALTORS® William C. Bass Leadership Academy\, class of 2022 and founder of Agent Academics\, a platform dedicated to professional growth in real estate.
URL:https://www.ncrealtors.org/event/sticking-to-the-code-of-ethics-022224/
LOCATION:Virtual
CATEGORIES:CE Courses,Designations & Certifications,GRI,Legal & Ethics
ATTACH;FMTTYPE=image/jpeg:https://www.ncrealtors.org/wp-content/uploads/StickingtotheCodeofEthics_FeatureImage.jpg
END:VEVENT
BEGIN:VEVENT
DTSTART;TZID=America/New_York:20240224T000000
DTEND;TZID=America/New_York:20240302T235959
DTSTAMP:20260420T001958
CREATED:20230616T150602Z
LAST-MODIFIED:20230616T160107Z
UID:10000050-1708732800-1709423999@www.ncrealtors.org
SUMMARY:In-Person | CE at Sea
DESCRIPTION:Set sail with NC REALTORS® on one of the most amazing cruise ships for our annual CE at Sea educational adventure\, February 24 – March 2\, 2024. \nNot only will you explore the Caribbean with your NC REALTORS® colleagues\, but you’ll also get the unique opportunity to complete your 2024 Continuing Education at sea with instructor Mark Saunders. \n	\n\n\n\n\n\n\n	\n	\n				\n		Presented by\n							\n								\n									\n					\n				Mark Saunders\n														\n														Real Estate Brokers Academy	\n											\n							\n					Mark Saunders is a graduate of Appalachian State University and became a full-time REALTOR® in 2005. \nHe serves the REALTOR® community by participating on the Board of Directors for the Winston-Salem Association of REALTORS® and the North Carolina Association of REALTORS®. He is also a member of the North Carolina Association of REALTORS® Young Professionals Network\, serving as vice-chair in 2014 and chair in 2015. \nMark has received a number of awards and forms of recognition in his career\, which include: \n\n2010 Winston-Salem Association of REALTORS® Presidents Award for Outstanding Service and Dedication in the field of property management.\n2013 National Association of REALTORS® Young Professionals Network of the Year winner\n2013 Winston-Salem Association of REALTORS® Presidents Award for Outstanding Service and Dedication to the local association\n2016 Winston-Salem Association of REALTORS® Property Manager of the year\,\n2016 NC REALTOR® Innovation & Entrepreneurial Excellence Award\n2018 was selected to the 2018 Triad Business Journal 40 under 40 Business Leaders Class\n\nFind Mark on: \n\nWebsite\nLinkedIn\nYouTube\nX\nFacebook\nInstagram
URL:https://www.ncrealtors.org/event/2024-ce-at-sea/
LOCATION:NC
CATEGORIES:CE Courses
END:VEVENT
BEGIN:VEVENT
DTSTART;TZID=America/New_York:20240229T080000
DTEND;TZID=America/New_York:20240301T180000
DTSTAMP:20260420T001958
CREATED:20240130T165238Z
LAST-MODIFIED:20240202T143603Z
UID:10000097-1709193600-1709316000@www.ncrealtors.org
SUMMARY:2024 NAIOP NC Conference
DESCRIPTION:The NAIOP NC Conference brings together 400+ commercial real estate professionals from across the state. This conference continues to be the largest CRE development event in North Carolina and allows NAIOP members and industry partners the opportunity to connect\, learn\, and enjoy a little competition on the greens.
URL:https://www.ncrealtors.org/event/2024-naiop-nc-conference/
LOCATION:Pinehurst Resort\, 80 Carolina Vista Dr\,\, Pinehurst\, NC\, 28374
CATEGORIES:Commercial
ATTACH;FMTTYPE=image/jpeg:https://www.ncrealtors.org/wp-content/uploads/Other-Events_2024-NAIOP-NC-Conference_-Featured-Image-540x315px.jpg
END:VEVENT
BEGIN:VEVENT
DTSTART;TZID=America/New_York:20240229T090000
DTEND;TZID=America/New_York:20240229T160000
DTSTAMP:20260420T001958
CREATED:20231031T210244Z
LAST-MODIFIED:20240222T140650Z
UID:10000069-1709197200-1709222400@www.ncrealtors.org
SUMMARY:Virtual | Professional Standards/COE Training
DESCRIPTION:WE’RE SORRY! THIS CLASS IS NOW FULL.\n4 hours of elective CE credit\nJoin Stephanie Walker\, an expert on the Code of Ethics and professional standards matters\, in a one day (9:00am to 4:00 pm) long seminar covering the Code of Ethics and processes to enforce the Code.  This course will be presented virtually. You will earn 4 hours of elective CE credit for completing this course. \nAbout the Class: This class will cover the foundation of the Professional Standards process and the latest changes to the Code of Ethics. The class will provide advanced training on how to write a quality Findings of Fact and high-level training for Hearing Panel Chairpersons. \nWho Should Attend? Anyone and everyone!  While the Professional Standards Training has traditionally been aimed at members of local REALTOR® board/association BODs and Grievance and Professional Standards Committees\, the class also fulfills the National Association of REALTORS® (NAR) ethics training requirement. \n	\n\n\n\n\n\n\n	\n	\n				\n		Presented by\n							\n								\n									\n					\n				Stephanie Walker\n														Owner/President	\n														\n														Stephanie Walker & Associates	\n											\n							\n					Stephanie has been in the real estate business for more than 3 decades. Stephanie holds a number of NAR Designations and is trained in both REALTOR® and Superior Court Mediation. She is a past President of both the Outer Banks Association of REALTORS® and the North Carolina Association of REALTORS®.  In 2016\, Stephanie was honored as the NC REALTORS® REALTOR® of the Year. \nHer experiences\, both in the field and volunteering at all levels of the REALTOR® association\, give her plenty of real life\, in the trenches stories to  supplement her courses with actual scenarios that bring relevance\, substance\, and humor to attendees.
URL:https://www.ncrealtors.org/event/virtual-professional-standards-coe-training-022924/
LOCATION:Virtual
CATEGORIES:CE Courses,Legal & Ethics
ATTACH;FMTTYPE=image/jpeg:https://www.ncrealtors.org/wp-content/uploads/ProfessionalStandardsandCodeofEthicsTraining_FeatureImage.jpg
END:VEVENT
BEGIN:VEVENT
DTSTART;TZID=America/New_York:20240229T101500
DTEND;TZID=America/New_York:20240229T133000
DTSTAMP:20260420T001958
CREATED:20240131T202206Z
LAST-MODIFIED:20240131T202210Z
UID:10000104-1709201700-1709213400@www.ncrealtors.org
SUMMARY:2024 NC CCIM Triangle Market Forecast
DESCRIPTION:
URL:https://www.ncrealtors.org/event/2024-nc-ccim-triangle-market-forecast/
LOCATION:Embassy Suites by Hilton Raleigh Durham Research Triangle\, 201 Harrison Oaks Blvd\, Cary\, NC\, 27513
CATEGORIES:Commercial
END:VEVENT
END:VCALENDAR