BEGIN:VCALENDAR
VERSION:2.0
PRODID:-//NC REALTORS® - ECPv6.15.16.1//NONSGML v1.0//EN
CALSCALE:GREGORIAN
METHOD:PUBLISH
X-ORIGINAL-URL:https://www.ncrealtors.org
X-WR-CALDESC:Events for NC REALTORS®
REFRESH-INTERVAL;VALUE=DURATION:PT1H
X-Robots-Tag:noindex
X-PUBLISHED-TTL:PT1H
BEGIN:VTIMEZONE
TZID:America/New_York
BEGIN:DAYLIGHT
TZOFFSETFROM:-0500
TZOFFSETTO:-0400
TZNAME:EDT
DTSTART:20230312T070000
END:DAYLIGHT
BEGIN:STANDARD
TZOFFSETFROM:-0400
TZOFFSETTO:-0500
TZNAME:EST
DTSTART:20231105T060000
END:STANDARD
BEGIN:DAYLIGHT
TZOFFSETFROM:-0500
TZOFFSETTO:-0400
TZNAME:EDT
DTSTART:20240310T070000
END:DAYLIGHT
BEGIN:STANDARD
TZOFFSETFROM:-0400
TZOFFSETTO:-0500
TZNAME:EST
DTSTART:20241103T060000
END:STANDARD
BEGIN:DAYLIGHT
TZOFFSETFROM:-0500
TZOFFSETTO:-0400
TZNAME:EDT
DTSTART:20250309T070000
END:DAYLIGHT
BEGIN:STANDARD
TZOFFSETFROM:-0400
TZOFFSETTO:-0500
TZNAME:EST
DTSTART:20251102T060000
END:STANDARD
END:VTIMEZONE
BEGIN:VEVENT
DTSTART;TZID=America/New_York:20240401T130000
DTEND;TZID=America/New_York:20240401T133000
DTSTAMP:20260419T212446
CREATED:20240103T145936Z
LAST-MODIFIED:20240103T145941Z
UID:10000090-1711976400-1711978200@www.ncrealtors.org
SUMMARY:Mobile Mondays | Fair Housing and Your Business
DESCRIPTION:As we kick off National Fair Housing month join Minerva Mims\, the North Carolina Real Estate Commission’s Diversity\, Equity\, and Inclusion Officer\, to get a quick recap of federal and state fair housing laws and resources. \nJoin the Facebook Group (You must answer three questions before being approved.)
URL:https://www.ncrealtors.org/event/040124-mobile-mondays-fair-housing-and-your-business/
LOCATION:Facebook
CATEGORIES:Webinars & Mobile Mondays
ATTACH;FMTTYPE=image/jpeg:https://www.ncrealtors.org/wp-content/uploads/MobileMondays_FeatureImage.jpg
END:VEVENT
BEGIN:VEVENT
DTSTART;TZID=America/New_York:20240409T130000
DTEND;TZID=America/New_York:20240409T170000
DTSTAMP:20260419T212446
CREATED:20240227T144040Z
LAST-MODIFIED:20240402T144057Z
UID:10000110-1712667600-1712682000@www.ncrealtors.org
SUMMARY:Virtual | Property Management BIC UP
DESCRIPTION:The 2023-2024 Broker-in-Charge Update (BICUP) course is a 4-hour continuing education real estate course written by the North Carolina Real Estate Commission. This course includes an added chapter on fiduciary duties for property managers. \n\nPMD Member Price: $40.00\nNCR Member Price: $60.00\nNon-member Price: $70.00 \n	\n\n\n\n\n\n\n	\n	\n				\n		Presented by\n							\n								\n									\n					\n				Mark Saunders\n														\n														Real Estate Brokers Academy	\n											\n							\n					Mark Saunders is a graduate of Appalachian State University and became a full-time REALTOR® in 2005. \nHe serves the REALTOR® community by participating on the Board of Directors for the Winston-Salem Association of REALTORS® and the North Carolina Association of REALTORS®. He is also a member of the North Carolina Association of REALTORS® Young Professionals Network\, serving as vice-chair in 2014 and chair in 2015. \nMark has received a number of awards and forms of recognition in his career\, which include: \n\n2010 Winston-Salem Association of REALTORS® Presidents Award for Outstanding Service and Dedication in the field of property management.\n2013 National Association of REALTORS® Young Professionals Network of the Year winner\n2013 Winston-Salem Association of REALTORS® Presidents Award for Outstanding Service and Dedication to the local association\n2016 Winston-Salem Association of REALTORS® Property Manager of the year\,\n2016 NC REALTOR® Innovation & Entrepreneurial Excellence Award\n2018 was selected to the 2018 Triad Business Journal 40 under 40 Business Leaders Class\n\nFind Mark on: \n\nWebsite\nLinkedIn\nYouTube\nX\nFacebook\nInstagram
URL:https://www.ncrealtors.org/event/040924-property-management-bicup/
LOCATION:Virtual
CATEGORIES:Fair Housing,Property Management - PMD
ATTACH;FMTTYPE=image/jpeg:https://www.ncrealtors.org/wp-content/uploads/040924_PropMgmtBICUP_FeatureImage.jpg
END:VEVENT
BEGIN:VEVENT
DTSTART;TZID=America/New_York:20240410T090000
DTEND;TZID=America/New_York:20240410T130000
DTSTAMP:20260419T212446
CREATED:20240227T142734Z
LAST-MODIFIED:20240402T144217Z
UID:10000111-1712739600-1712754000@www.ncrealtors.org
SUMMARY:Virtual | The Nuts & Bolts of Property Management
DESCRIPTION:Whether you’re a seasoned professional in the field of Property Management or just starting out\, this course is designed to equip you with the essential knowledge and skills to enhance your role as a property manager. \nDuring this interactive session\, we will delve into various key aspects of property management. Gain a deep understanding of proper accounting procedures to streamline your financial management practices. Learn about tenant screening systems that are compliant with fair housing laws\, ensuring a fair and unbiased selection process. Explore the intricacies of habitability law violations and discover effective strategies for handling mold complaints. \n\nThis class provides the following credit: 4 hours of CE & GRI designation \nMember Price (with CE): $70.00\nMember Price (without CE): $60.00\nNon-member Price (with CE): $80.00\nNon-member Price (without CE): $70.00 \n	\n\n\n\n\n\n\n	\n	\n				\n		Presented by\n							\n								\n									\n					\n				Mark Saunders\n														\n														Real Estate Brokers Academy	\n											\n							\n					Mark Saunders is a graduate of Appalachian State University and became a full-time REALTOR® in 2005. \nHe serves the REALTOR® community by participating on the Board of Directors for the Winston-Salem Association of REALTORS® and the North Carolina Association of REALTORS®. He is also a member of the North Carolina Association of REALTORS® Young Professionals Network\, serving as vice-chair in 2014 and chair in 2015. \nMark has received a number of awards and forms of recognition in his career\, which include: \n\n2010 Winston-Salem Association of REALTORS® Presidents Award for Outstanding Service and Dedication in the field of property management.\n2013 National Association of REALTORS® Young Professionals Network of the Year winner\n2013 Winston-Salem Association of REALTORS® Presidents Award for Outstanding Service and Dedication to the local association\n2016 Winston-Salem Association of REALTORS® Property Manager of the year\,\n2016 NC REALTOR® Innovation & Entrepreneurial Excellence Award\n2018 was selected to the 2018 Triad Business Journal 40 under 40 Business Leaders Class\n\nFind Mark on: \n\nWebsite\nLinkedIn\nYouTube\nX\nFacebook\nInstagram
URL:https://www.ncrealtors.org/event/041024-nuts-and-bolts-of-property-management/
LOCATION:Virtual
CATEGORIES:CE Courses,Designations & Certifications,GRI,Property Management - PMD
ATTACH;FMTTYPE=image/jpeg:https://www.ncrealtors.org/wp-content/uploads/041024_TheNutsBoltsofPropMgmt_FeatureImage.jpg
END:VEVENT
BEGIN:VEVENT
DTSTART;TZID=America/New_York:20240411T090000
DTEND;TZID=America/New_York:20240411T130000
DTSTAMP:20260419T212446
CREATED:20240227T144751Z
LAST-MODIFIED:20240402T144258Z
UID:10000112-1712826000-1712840400@www.ncrealtors.org
SUMMARY:Virtual | Property Management GENUP
DESCRIPTION:The 2023-2024 General Update (GENUP) real estate course is a 4-hour continuing education course written by the North Carolina Real Estate Commission. This course includes an added chapter on fiduciary duties for property managers. \n\nPMD Member Price: $40.00\nNCR Member Price: $60.00\nNon-member Price: $70.00 \n	\n\n\n\n\n\n\n	\n	\n				\n		Presented by\n							\n								\n									\n					\n				Mark Saunders\n														\n														Real Estate Brokers Academy	\n											\n							\n					Mark Saunders is a graduate of Appalachian State University and became a full-time REALTOR® in 2005. \nHe serves the REALTOR® community by participating on the Board of Directors for the Winston-Salem Association of REALTORS® and the North Carolina Association of REALTORS®. He is also a member of the North Carolina Association of REALTORS® Young Professionals Network\, serving as vice-chair in 2014 and chair in 2015. \nMark has received a number of awards and forms of recognition in his career\, which include: \n\n2010 Winston-Salem Association of REALTORS® Presidents Award for Outstanding Service and Dedication in the field of property management.\n2013 National Association of REALTORS® Young Professionals Network of the Year winner\n2013 Winston-Salem Association of REALTORS® Presidents Award for Outstanding Service and Dedication to the local association\n2016 Winston-Salem Association of REALTORS® Property Manager of the year\,\n2016 NC REALTOR® Innovation & Entrepreneurial Excellence Award\n2018 was selected to the 2018 Triad Business Journal 40 under 40 Business Leaders Class\n\nFind Mark on: \n\nWebsite\nLinkedIn\nYouTube\nX\nFacebook\nInstagram
URL:https://www.ncrealtors.org/event/041124-property-management-genup/
LOCATION:NC
CATEGORIES:Fair Housing,Property Management - PMD
ATTACH;FMTTYPE=image/jpeg:https://www.ncrealtors.org/wp-content/uploads/041124_PropMgmtGenUp_FeatureImage.jpg
END:VEVENT
BEGIN:VEVENT
DTSTART;TZID=America/New_York:20240411T114500
DTEND;TZID=America/New_York:20240411T130000
DTSTAMP:20260419T212446
CREATED:20240404T135154Z
LAST-MODIFIED:20240409T165527Z
UID:10000122-1712835900-1712840400@www.ncrealtors.org
SUMMARY:3rd Annual Fair Housing Luncheon
DESCRIPTION:Hosted by: Burlington Alamance County Association of REALTORS® \n11:45 AM: Buffet\n12:00 PM: Program \nThere will be a brief workshop and interactive session on Fair Housing followed by a guest speaker\, Allan Hunt\, City of Greensboro. \nAllen Hunt serves as the Equal Opportunity Specialist at the U.S. Department of Housing and Urban Development\, tasked with investigating allegations of discrimination in housing and lending to eliminate housing discrimination. He is also the Primary Compliance Officer for the City of Greensboro. Hunt has over 15 years of experience managing compliance investigations\, mediations\, and community development programming. He is the Human Rights Fair Housing Officer for the city. For more information or inquiries\, contact Allen Hunt at 336-373-2038.
URL:https://www.ncrealtors.org/event/041124-fair-housing-luncheon/
LOCATION:Best Western Ballroom\, 770 Huffman Mill Rd\, Burlington\, NC\, 27215\, United States
CATEGORIES:DEI
END:VEVENT
BEGIN:VEVENT
DTSTART;TZID=America/New_York:20240411T133000
DTEND;TZID=America/New_York:20240411T173000
DTSTAMP:20260419T212446
CREATED:20240206T171544Z
LAST-MODIFIED:20240213T142937Z
UID:10000106-1712842200-1712856600@www.ncrealtors.org
SUMMARY:In-Person: Bias Override: Overcoming Barriers to Fair Housing
DESCRIPTION:Bias Override: Overcoming Barriers to Fair Housing helps interrupt stereotypical thinking to avoid fair housing pitfalls and provide equal professional service. Participants will examine the history of bias in real estate\, learn about the mind science of identity\, study how implicit bias can result in fair housing violations and engage in interactive exercises to enhance communication skills and business relationships with clients of all backgrounds. \n\nThis class provides the following credit: 4 hours of CE \nRegistration (with CE): $30 \nQuestions? Contact Jenny Hackett at jenny@gastonrealtors.com or 704-867-4826.
URL:https://www.ncrealtors.org/event/041124-bias-override/
LOCATION:Habitat for Humanity\, Johann Newcomb Event Center\, 1840 E Franklin Blvd\, Gastonia\, NC\, 28054
CATEGORIES:CE Courses,Designations & Certifications,Fair Housing
ATTACH;FMTTYPE=image/jpeg:https://www.ncrealtors.org/wp-content/uploads/BiasOverride_FeatureImage.jpg
END:VEVENT
BEGIN:VEVENT
DTSTART;TZID=America/New_York:20240417T090000
DTEND;TZID=America/New_York:20240417T130000
DTSTAMP:20260419T212446
CREATED:20240209T141308Z
LAST-MODIFIED:20240209T141531Z
UID:10000107-1713344400-1713358800@www.ncrealtors.org
SUMMARY:In-Person: Bias Override: Overcoming Barriers to Fair Housing
DESCRIPTION:Bias Override: Overcoming Barriers to Fair Housing helps interrupt stereotypical thinking to avoid fair housing pitfalls and provide equal professional service. Participants will examine the history of bias in real estate\, learn about the mind science of identity\, study how implicit bias can result in fair housing violations and engage in interactive exercises to enhance communication skills and business relationships with clients of all backgrounds. \n\nThis class provides the following credit: 4 hours of CE \nRegistration (with CE): $60\nRegistration (no CE): $50 \nQuestions? Contact Heather Greene at heather@jbornc.com. \n	\n\n\n\n\n\n\n	\n	\n				\n		Presented by\n							\n								\n									\n					\n				Tikola McCree\n														\n											\n							\n					Tikola McCree is a dedicated real estate professional with North Group Real Estate in the Greater Charlotte Area and a proud soccer mom to her 16-year-old son. With nearly two decades in education\, she has trained young artists and scholars\, shaping her passion for mentorship and community empowerment. \nA graduate of Rutgers University and Sarah Lawrence College\, Tikola holds certifications in administration\, special education\, and movement for students with disabilities. She actively champions fair housing and diversity\, serving as the 2024 Chair of the NC REALTORS® Diversity Committee\, 2025 Vice Chair and 2026 Chair of the NAR Fair Housing Policy Committee\, and President of the Charlotte Crown REALTIST Association (2022-2024). She also serves on the Canopy MLS Board of Directors and is part of NAR’s 2024 Leadership Academy. \nCommitted to fostering generational wealth\, Tikola educates agents nationwide on serving diverse communities and the impact of policy on the industry\, making her a leading voice in real estate advocacy and inclusion.
URL:https://www.ncrealtors.org/event/041724-bias-override/
LOCATION:Jacksonville Board of REALTORS®\, 200 Preston Rd Ste 100\, Jacksonville\, North Carolina\, 28540
CATEGORIES:CE Courses,Designations & Certifications,Fair Housing
ATTACH;FMTTYPE=image/jpeg:https://www.ncrealtors.org/wp-content/uploads/BiasOverride_FeatureImage.jpg
END:VEVENT
BEGIN:VEVENT
DTSTART;TZID=America/New_York:20240417T090000
DTEND;TZID=America/New_York:20240417T130000
DTSTAMP:20260419T212446
CREATED:20240311T153103Z
LAST-MODIFIED:20240311T153429Z
UID:10000121-1713344400-1713358800@www.ncrealtors.org
SUMMARY:Virtual | Commercial General Update
DESCRIPTION:Hosted by: Triangle Commercial Association of REALTORS® \nThis is the North Carolina Real Estate Commission’s 2023-2024 Commercial General Update course for the renewal period July 1\, 2023 through June 10\, 2024. \nTopics discussed include: \n\nNCREC Top Complaints\nNCREC On Your Side FAQs\nChallenges of a Changing Market\nLegislative Desk: Law and Rules Updates\nLifestyles Desk: Licensing and Education\n\nRegistration Fee: $75 \n*** If a BIC or broker who is “BIC Eligible” takes the General Update\, CE credit will be given\, but BIC status/eligibility will be lost.
URL:https://www.ncrealtors.org/event/041724-commercial-general-update/
LOCATION:Virtual
CATEGORIES:Commercial
END:VEVENT
BEGIN:VEVENT
DTSTART;TZID=America/New_York:20240418T120000
DTEND;TZID=America/New_York:20240418T130000
DTSTAMP:20260419T212446
CREATED:20240415T140952Z
LAST-MODIFIED:20240412T141730Z
UID:10000127-1713441600-1713445200@www.ncrealtors.org
SUMMARY:Partner Webinar | Listing Presentation Updates for a shifting real estate landscape
DESCRIPTION:With all the media attention around the real estate industry and recent settlement announcement\, we’ve found that sellers have more and more varied questions and concerns than ever before. As we head into the busy season\, we need to prepare to answer these questions. \nOn Thursday\, April 18th at 12pm ET The Paperless Agent is going to share the Listing Presentation updates and new scripts we’re using to build trust and earn business now.
URL:https://www.ncrealtors.org/event/041824-partner-webinar-paperless-agent/
LOCATION:Virtual
CATEGORIES:Partner
ATTACH;FMTTYPE=image/png:https://www.ncrealtors.org/wp-content/uploads/041824Webinar_540x145.png
END:VEVENT
BEGIN:VEVENT
DTSTART;TZID=America/New_York:20240423T113000
DTEND;TZID=America/New_York:20240423T130000
DTSTAMP:20260419T212446
CREATED:20240301T203647Z
LAST-MODIFIED:20240409T133931Z
UID:10000116-1713871800-1713877200@www.ncrealtors.org
SUMMARY:RCASENC Lunch & Learn
DESCRIPTION:Meeting Location: Class Room & Conference Room (Downstairs 1st Door on the Rt) \nRCA’s Q2 Lunch & Learn educational opportunity is being provided by Terracon! The topic is: Brownfields\, Revitalizing Communities.
URL:https://www.ncrealtors.org/event/042424-rcasenc-lunch-and-learn/
LOCATION:Cape Fear REALTORS®\, 1826 Sir Tyler Drive\, Suite 100\, Wilmington\, NC\, 28405
CATEGORIES:Commercial
END:VEVENT
BEGIN:VEVENT
DTSTART;TZID=America/New_York:20240424T090000
DTEND;TZID=America/New_York:20240424T130000
DTSTAMP:20260419T212446
CREATED:20240311T152049Z
LAST-MODIFIED:20240311T153312Z
UID:10000120-1713949200-1713963600@www.ncrealtors.org
SUMMARY:Virtual | Commercial BIC Update
DESCRIPTION:Staying on the Right Path : REALTOR® Code of Ethics \nHosted by: Triangle Commercial Association of REALTORS® \nAll brokers want to do things right\, whether it is following the license law or abiding by the National Association of REALTORS® Code of Ethics. This course has case studies in different areas dealing with different challenges. It does not matter if the broker is from a large or small market\, in an urban or rural setting\, or is residential or commercial or both – all brokers will relate to most if not all of the situations presented. Presented by Cindy Chandler\, CRE\, CCIM. \nRegistration Fee: $75
URL:https://www.ncrealtors.org/event/042424-commercial-bic-update/
LOCATION:Virtual
CATEGORIES:Commercial
END:VEVENT
BEGIN:VEVENT
DTSTART;TZID=America/New_York:20240428T170000
DTEND;TZID=America/New_York:20240428T190000
DTSTAMP:20260419T212446
CREATED:20240425T170823Z
LAST-MODIFIED:20240425T170827Z
UID:10000131-1714323600-1714330800@www.ncrealtors.org
SUMMARY:NC CCIM 2nd Annual Chari-Tee Auction
DESCRIPTION:Cost to attend the Chari-Tee Auction is $65 only. A portion of the proceeds will benefit the Food Bank of Central & Eastern North Carolina and The CCIM Foundation. \n2024 NC CCIM Tee It Up for Charity Golf Tournament registration includes the cost of the Chari-Tee Auction. (no additional registration required)
URL:https://www.ncrealtors.org/event/042824-nc-ccim-2nd-annual-chari-tee-auction/
LOCATION:Pinewild Country Club of Pinehurst\, 85 Glasgow Drive\, Pinehurst\, NC\, 28374
CATEGORIES:Commercial
END:VEVENT
BEGIN:VEVENT
DTSTART;TZID=America/New_York:20240429T103000
DTEND;TZID=America/New_York:20240429T170000
DTSTAMP:20260419T212446
CREATED:20240425T193826Z
LAST-MODIFIED:20240425T193830Z
UID:10000130-1714386600-1714410000@www.ncrealtors.org
SUMMARY:2024 NC CCIM Tee It Up for Charity Golf Tournament
DESCRIPTION:Join the North Carolina CCIM Chapter along with Former Professional Basketball Player Rasheed Wallace as we Tee It Up for Charity. ~Rain or Shine~ \n10:30am Registration\n11:30am Shotgun Start \nGolf Tournament registration includes the cost of the Chari-Tee Auction. (no additional registration required)
URL:https://www.ncrealtors.org/event/2024-nc-ccim-tee-it-up-for-charity-golf-tournament/
LOCATION:Pinewild Country Club of Pinehurst\, 85 Glasgow Drive\, Pinehurst\, NC\, 28374
CATEGORIES:Commercial
END:VEVENT
BEGIN:VEVENT
DTSTART;TZID=America/New_York:20240430T083000
DTEND;TZID=America/New_York:20240430T123000
DTSTAMP:20260419T212446
CREATED:20240301T204411Z
LAST-MODIFIED:20240301T204415Z
UID:10000117-1714465800-1714480200@www.ncrealtors.org
SUMMARY:RCASENC CE Elective: What is IRC 1031 Exchange & How to Apply It
DESCRIPTION:Meeting Location: Ballroom A&B & Terraces A&B \nCommercial Members this 4-hour CE elective is just for you! Join us IN-PERSON for  “What is IRC 1031 Exchange and How To Apply It” will be led by instructor John Starling here in the ballroom at Terraces Tuesday\, April 30th at 8:30 am to 12:30 pm. Doors will open at 8:00 am. \nThis is a FREE 4-hour CE course for RCA Members! \nThis course outlines a procedure for postponing the recognition of taxes on capital gain income upon disposition of real estate held for business or for investment. \nIT EXPLAINS: \n\nWhich properties qualify for non-recognition treatment\nHow an exchange transaction actually works\nHow easy it is to postpone the payment of taxes and\nWhat you need to do to comply with the tax code and the regulations\nHow to eliminate unnecessary taxes\,\nHow to retain all of your profit and equity\, and\nHow to get\, in effect\, an interest-free loan from the Federal government.\n\nThere is no reason to pay any of your hard-earned profit to Uncle Sam in the form of tax on CAPITAL GAINS as long as you intend to invest all of your current equity in other qualifying property.
URL:https://www.ncrealtors.org/event/043024-what-is-irc1031-exchange-and-how-to-apply-it/
LOCATION:Cape Fear REALTORS®\, 1826 Sir Tyler Drive\, Suite 100\, Wilmington\, NC\, 28405
CATEGORIES:Commercial
END:VEVENT
BEGIN:VEVENT
DTSTART;TZID=America/New_York:20240430T083000
DTEND;TZID=America/New_York:20240503T163000
DTSTAMP:20260419T212446
CREATED:20240425T165927Z
LAST-MODIFIED:20240425T195929Z
UID:10000129-1714465800-1714753800@www.ncrealtors.org
SUMMARY:CCIM - CI 101:  Financial Analysis for Commercial Investment Real Estate
DESCRIPTION:CI 101 is a bedrock class for real estate practitioners at a time when risk mitigation\, pricing\, and cycle assurance have become critical to investors. CI 101 introduces the CCIM Cash Flow Model\, a tool for ensuring your investment decisions are based on wise finance fundamentals. During the course\, you will learn how to use key financial concepts such as Internal Rate of Return (IRR)\, Net Present Value (NPV)\, Cap Rate\, Capital Accumulation\, and the Annual Growth Rate of Capital to compare different types of commercial real estate investments. \n\nTuition: \n\n$1\,299 for CCIM Institute members\n$1\,599 for REALTORS®\n$1\,899 for non-members
URL:https://www.ncrealtors.org/event/043024-ccim-ci101/
LOCATION:Canopy REALTOR® Association\, 1120 Pearl Park Way\, Charlotte\, NC\, 28204
CATEGORIES:Commercial
END:VEVENT
END:VCALENDAR