BEGIN:VCALENDAR
VERSION:2.0
PRODID:-//NC REALTORS® - ECPv6.15.16.1//NONSGML v1.0//EN
CALSCALE:GREGORIAN
METHOD:PUBLISH
X-WR-CALNAME:NC REALTORS®
X-ORIGINAL-URL:https://www.ncrealtors.org
X-WR-CALDESC:Events for NC REALTORS®
REFRESH-INTERVAL;VALUE=DURATION:PT1H
X-Robots-Tag:noindex
X-PUBLISHED-TTL:PT1H
BEGIN:VTIMEZONE
TZID:America/New_York
BEGIN:DAYLIGHT
TZOFFSETFROM:-0500
TZOFFSETTO:-0400
TZNAME:EDT
DTSTART:20230312T070000
END:DAYLIGHT
BEGIN:STANDARD
TZOFFSETFROM:-0400
TZOFFSETTO:-0500
TZNAME:EST
DTSTART:20231105T060000
END:STANDARD
BEGIN:DAYLIGHT
TZOFFSETFROM:-0500
TZOFFSETTO:-0400
TZNAME:EDT
DTSTART:20240310T070000
END:DAYLIGHT
BEGIN:STANDARD
TZOFFSETFROM:-0400
TZOFFSETTO:-0500
TZNAME:EST
DTSTART:20241103T060000
END:STANDARD
BEGIN:DAYLIGHT
TZOFFSETFROM:-0500
TZOFFSETTO:-0400
TZNAME:EDT
DTSTART:20250309T070000
END:DAYLIGHT
BEGIN:STANDARD
TZOFFSETFROM:-0400
TZOFFSETTO:-0500
TZNAME:EST
DTSTART:20251102T060000
END:STANDARD
END:VTIMEZONE
BEGIN:VTIMEZONE
TZID:UTC
BEGIN:STANDARD
TZOFFSETFROM:+0000
TZOFFSETTO:+0000
TZNAME:UTC
DTSTART:20230101T000000
END:STANDARD
END:VTIMEZONE
BEGIN:VEVENT
DTSTART;TZID=America/New_York:20240601T000000
DTEND;TZID=America/New_York:20240609T235959
DTSTAMP:20260419T183210
CREATED:20240215T210218Z
LAST-MODIFIED:20240502T135020Z
UID:10000109-1717200000-1717977599@www.ncrealtors.org
SUMMARY:NC REALTORS® Give Back
DESCRIPTION:NC REALTORS® Give Back is a way for local associations and their members to come together and participate in a housing-related service project in their area. This annual initiative began in June 2019 by the William C. Bass Leadership Academy and continues on now under the management of the NC REALTORS® Housing Foundation—NC REALTORS® housing opportunity foundation. \nThis year\, we’re taking it to the next level and joining NAR’s REALTOR® Volunteer Days on June 1-9\, 2024. That gives you a whole week of REALTOR® volunteering opportunities! Together\, we can make a real difference by serving our neighbors and strengthening our communities. \nHOW DO I PARTICIPATE?\nContact your local association for projects and activities planned in your area. \nYou can see a list of projects happening around the state under the Discussions tab in this Facebook event. \nIf you have any questions or want to share your event details\, please email Kentia Smith at ksmith@ncrealtors.org.
URL:https://www.ncrealtors.org/event/nc-realtors-give-back/
LOCATION:NC
ATTACH;FMTTYPE=image/jpeg:https://www.ncrealtors.org/wp-content/uploads/NCRGivesBack_LongLogo.jpg
END:VEVENT
BEGIN:VEVENT
DTSTART;TZID=America/New_York:20240602T153000
DTEND;TZID=America/New_York:20240605T153000
DTSTAMP:20260419T183210
CREATED:20230616T183538Z
LAST-MODIFIED:20240513T142816Z
UID:10000054-1717342200-1717601400@www.ncrealtors.org
SUMMARY:Event | Legislative Meetings
DESCRIPTION:Join your peers to hear about issues that will impact REALTORS® and the North Carolina real estate industry. The meetings wrap up with Legislative Day at the General Assembly when hundreds of REALTORS® from across the state walk the halls of the legislature and talk to their elected representatives in the House and Senate. Registration is free. \nLegislative Day: June 5 \nEVENT DETAILS
URL:https://www.ncrealtors.org/event/2024-legislative-meetings/
LOCATION:Raleigh Sheraton Hotel\, 421 S Salisbury St\, Raleigh\, NC\, 27601
CATEGORIES:Annual Events,Commercial
ATTACH;FMTTYPE=image/jpeg:https://www.ncrealtors.org/wp-content/uploads/2024LegislativeMeetings_Feature-Image.jpg
END:VEVENT
BEGIN:VEVENT
DTSTART;TZID=UTC:20240603T090000
DTEND;TZID=UTC:20240603T170000
DTSTAMP:20260419T183210
CREATED:20240116T225358Z
LAST-MODIFIED:20240522T132240Z
UID:10000094-1717405200-1717434000@www.ncrealtors.org
SUMMARY:In-person | At Home With Diversity
DESCRIPTION:AHWD is an NAR certification program designed to present a picture of the changing face of the real estate industry. The At Home with Diversity course addresses the topics of diversity\, fair housing and business planning development. After successfully completing the course\, REALTORS® are eligible to apply for the official AHWD certification\, which conveys to clients they’re working with a dynamic real estate professional with expertise that transcends cultural barriers. AHWD Certification Requirements \n\nThis class provides the following credit: 4 hours of CE \nRegistration: $75\nDRAR Members: $60 \nDRAR Members: click here to register\nNon-DRAR Members: Email services@durhamrealtors.org to register. \nQuestions? Contact Shelia Willis at shelia@durhamrealtors.org or 919-403-2117. \n	\n\n\n\n\n	\n	\n				\n		Presented by\n							\n								\n									\n					\n				Kandyce Ellis\n														\n											\n							\n					Kandyce is a seasoned real estate instructor and business therapist who has helped real estate licensees in North Carolina and across the country\, start and strengthen their real estate careers. She understands that her students and clients need individualized strategies for every situation – from teaching a pre-licensing class\, establishing agent growth through training\, or facilitating continuing education programs. \nKandyce has worked in multiple roles during the past two decades. But currently she is focused on creating educational experiences that can help real estate professionals  find the path toward business fulfillment.  Having achieved multiple certifications and designations\, she is most proud of achieving her DREI (Distinguished Real Estate Instructor) and the CDEI (Certified Distance Education Instructor). Kandyce proudly holds her degree in Communication Studies  from The University of North Carolina at Chapel Hill. \nWhen she is not educating licensees\, Kandyce can be found continuing to learn about any topics that catch her attention. She is a licensed NC Auctioneer\, a former belly dancer\, and a current lover of any type of tech toy she can get her hands on.
URL:https://www.ncrealtors.org/event/052224-at-home-with-diversity/
LOCATION:Durham Regional Association of REALTORS®\, 4236 University Drive\, Durham\, NC\, 27707
CATEGORIES:CE Courses,DEI,Designations & Certifications,Diversity,Fair Housing
ATTACH;FMTTYPE=image/jpeg:https://www.ncrealtors.org/wp-content/uploads/AHWDgeneric-1.jpg
END:VEVENT
BEGIN:VEVENT
DTSTART;TZID=America/New_York:20240613T100000
DTEND;TZID=America/New_York:20240613T123000
DTSTAMP:20260419T183210
CREATED:20240530T204821Z
LAST-MODIFIED:20240530T204828Z
UID:10000160-1718272800-1718281800@www.ncrealtors.org
SUMMARY:LGBTQ+ Real Estate Alliance Ally Certification Course
DESCRIPTION:This thought-provoking and interactive session will help you develop a better understanding of the LGBTQ+ community and provide you with knowledge on how to work with potential homebuyers and sellers who identify as part of the community. Intended for straight Allies\, this course will open your eyes to discrimination issues LGBTQ+ clients face and help you start your journey in building cultural competency. Unconscious bias creeps into human interactions when you don’t even realize it. Increase your understanding of the LGBTQ community. Learn what makes a good ally and how to respectfully engage with LGBTQ+ home buyers. \n\nRegistration Deadline: 6/11/2024 \nCanopy Members:  \n\n$30 First 50 Members\n$75 after 50 enrollments\n\nNon-Members: $75
URL:https://www.ncrealtors.org/event/061324-ally-certification-course/
LOCATION:Canopy REALTOR® Association\, 1120 Pearl Park Way\, Charlotte\, NC\, 28204
CATEGORIES:DEI
END:VEVENT
BEGIN:VEVENT
DTSTART;TZID=America/New_York:20240618T130000
DTEND;TZID=America/New_York:20240618T193000
DTSTAMP:20260419T183210
CREATED:20240510T142359Z
LAST-MODIFIED:20240510T142612Z
UID:10000140-1718715600-1718739000@www.ncrealtors.org
SUMMARY:ICSC Local Illinois
DESCRIPTION:Join Marketplaces Industry professionals at this exciting networking event that kicks off with golfing at Village Links of Glen Ellyn. Then get updates on retail and real estate trends from local experts\, and connect with colleagues and industry leaders for opportunities to advance your goals.
URL:https://www.ncrealtors.org/event/061824-icsc-local-illinois/
LOCATION:Village Links of Glen Ellyn\, 485 Winchell Way\, Glen Ellyn\, IL\, 60137
CATEGORIES:Commercial
END:VEVENT
BEGIN:VEVENT
DTSTART;TZID=America/New_York:20240618T140000
DTEND;TZID=America/New_York:20240618T160000
DTSTAMP:20260419T183210
CREATED:20240517T211146Z
LAST-MODIFIED:20240517T211227Z
UID:10000146-1718719200-1718726400@www.ncrealtors.org
SUMMARY:Latino Mortgage Panel
DESCRIPTION:Financing options for non-citizens and ITIN borrowers \nEmail services@durhamrealtors.org by June 15 to register.
URL:https://www.ncrealtors.org/event/061824-latino-mortgage-panel/
LOCATION:Durham Regional Association of REALTORS®\, 4236 University Drive\, Durham\, NC\, 27707
CATEGORIES:DEI
END:VEVENT
BEGIN:VEVENT
DTSTART;TZID=America/New_York:20240619T083000
DTEND;TZID=America/New_York:20240619T170000
DTSTAMP:20260419T183210
CREATED:20231201T213803Z
LAST-MODIFIED:20231201T214004Z
UID:10000077-1718785800-1718816400@www.ncrealtors.org
SUMMARY:Office Closed - Juneteenth
DESCRIPTION:The NC REALTORS® offices will be closed in observance of Juneteenth.
URL:https://www.ncrealtors.org/event/office-closed-juneteenth-2024/
LOCATION:NC
CATEGORIES:Office Closings
ATTACH;FMTTYPE=image/jpeg:https://www.ncrealtors.org/wp-content/uploads/Juneteenth_FeatureImage.jpg
END:VEVENT
BEGIN:VEVENT
DTSTART;TZID=America/New_York:20240620T093000
DTEND;TZID=America/New_York:20240620T110000
DTSTAMP:20260419T183210
CREATED:20240517T212922Z
LAST-MODIFIED:20240517T213041Z
UID:10000148-1718875800-1718881200@www.ncrealtors.org
SUMMARY:Private Tour of Pauli Murray House
DESCRIPTION:Private tour of Pauli Murray house & history to activate visitors to stand up for peace\, equity\, and justice \nDRAR members: email services@durhamrealtors.org to register.
URL:https://www.ncrealtors.org/event/062024-pauli-murray-house-tour/
LOCATION:Pauli Murray Center for History and Social Justice\, 906 Carroll St\, Durham\, NC\, 27701
CATEGORIES:DEI
END:VEVENT
BEGIN:VEVENT
DTSTART;TZID=America/New_York:20240620T113000
DTEND;TZID=America/New_York:20240620T133000
DTSTAMP:20260419T183210
CREATED:20240528T184351Z
LAST-MODIFIED:20240528T184541Z
UID:10000158-1718883000-1718890200@www.ncrealtors.org
SUMMARY:Home for Everyone: Happy To Be An Ally
DESCRIPTION:This event will be held in Ballroom A&B & Terraces A&B at the association building. \nThis program for inclusiveness aims to help you provide the most professional\, welcoming\, and supportive environment where everyone feels valued\, respected\, and empowered in the homeownership transaction. \nFree for Members\n$15 for non-members \nRegistration deadline: June 19
URL:https://www.ncrealtors.org/event/062024-home-for-everyone/
LOCATION:Cape Fear REALTORS®\, 1826 Sir Tyler Drive\, Suite 100\, Wilmington\, NC\, 28405
CATEGORIES:DEI
END:VEVENT
BEGIN:VEVENT
DTSTART;TZID=America/New_York:20240627T100000
DTEND;TZID=America/New_York:20240627T110000
DTSTAMP:20260419T183210
CREATED:20240517T212015Z
LAST-MODIFIED:20240517T212115Z
UID:10000147-1719482400-1719486000@www.ncrealtors.org
SUMMARY:Reflect\, Empower\, Unite
DESCRIPTION:Email services@durhamrealtors.org by June 24 to register.
URL:https://www.ncrealtors.org/event/062724-reflect-empower-unite/
LOCATION:Durham Regional Association of REALTORS®\, 4236 University Drive\, Durham\, NC\, 27707
CATEGORIES:DEI
END:VEVENT
END:VCALENDAR