BEGIN:VCALENDAR
VERSION:2.0
PRODID:-//NC REALTORS® - ECPv6.15.16.1//NONSGML v1.0//EN
CALSCALE:GREGORIAN
METHOD:PUBLISH
X-WR-CALNAME:NC REALTORS®
X-ORIGINAL-URL:https://www.ncrealtors.org
X-WR-CALDESC:Events for NC REALTORS®
REFRESH-INTERVAL;VALUE=DURATION:PT1H
X-Robots-Tag:noindex
X-PUBLISHED-TTL:PT1H
BEGIN:VTIMEZONE
TZID:America/New_York
BEGIN:DAYLIGHT
TZOFFSETFROM:-0500
TZOFFSETTO:-0400
TZNAME:EDT
DTSTART:20230312T070000
END:DAYLIGHT
BEGIN:STANDARD
TZOFFSETFROM:-0400
TZOFFSETTO:-0500
TZNAME:EST
DTSTART:20231105T060000
END:STANDARD
BEGIN:DAYLIGHT
TZOFFSETFROM:-0500
TZOFFSETTO:-0400
TZNAME:EDT
DTSTART:20240310T070000
END:DAYLIGHT
BEGIN:STANDARD
TZOFFSETFROM:-0400
TZOFFSETTO:-0500
TZNAME:EST
DTSTART:20241103T060000
END:STANDARD
BEGIN:DAYLIGHT
TZOFFSETFROM:-0500
TZOFFSETTO:-0400
TZNAME:EDT
DTSTART:20250309T070000
END:DAYLIGHT
BEGIN:STANDARD
TZOFFSETFROM:-0400
TZOFFSETTO:-0500
TZNAME:EST
DTSTART:20251102T060000
END:STANDARD
END:VTIMEZONE
BEGIN:VEVENT
DTSTART;TZID=America/New_York:20240807T130000
DTEND;TZID=America/New_York:20240807T170000
DTSTAMP:20260419T153501
CREATED:20240703T151312Z
LAST-MODIFIED:20240703T151355Z
UID:10000166-1723035600-1723050000@www.ncrealtors.org
SUMMARY:NAR Virtual 1031 Exchange Summit
DESCRIPTION:The summit features a three-part series\, with each session designed to provide REALTORS® with essential tips on how to leverage 1031 exchanges to purchase new investment properties\, enhance cash flow and help fund their retirement. \nSession 1: Introduction to 1031 Exchanges\nDate: Wednesday\, August 7 Time: 1:00pm ET \nSession 2: Advanced Issues and Structures of 1031 Exchanges\nDate: Wednesday\, August 14 Time: 1:00pm ET \nSession 3: Assisting Clients and Avoiding Pitfalls in 1031 Exchanges\nDate: Wednesday\, August 21 Time: 1:00pm ET \n$50 for NAR Members. (Pricing includes access to all four webinars.)
URL:https://www.ncrealtors.org/event/080724-nar-virtual-1031-exchange-summit/
LOCATION:Virtual
CATEGORIES:Commercial
END:VEVENT
BEGIN:VEVENT
DTSTART;TZID=America/New_York:20240808T090000
DTEND;TZID=America/New_York:20240808T130000
DTSTAMP:20260419T153501
CREATED:20240425T164522Z
LAST-MODIFIED:20240711T194007Z
UID:10000128-1723107600-1723122000@www.ncrealtors.org
SUMMARY:Virtual | The Road to the Perfect Contract
DESCRIPTION:This class is sold out. There are still seats available in the August 15 or October 8 classes.\nThe Road to the Perfect Contract is a class that every broker will benefit from! This course will decipher the many parts of the Buyer Agency Agreement and the Offer to Purchase and Contract. You’ll walk out with the full understanding of the requirements of proper representation\, tips on how to avoid miscommunication when entering into a Buyer Agency Agreement\, utilize forms properly\, and establish a working relationship with an unrepresented seller. \n\nThis class provides the following credit: 4 Hours of CE & GRI Designation \nMember Registration (No CE): $60\nMember Registration (with CE): $70 \nNon-Member Registration (No CE): $70\nNon-Member Registration (with CE): $80 \n	\n\n\n\n\n\n\n	\n	\n				\n		Presented by\n							\n								\n									\n					\n				Patrice Willetts\n														\n											\n							\n					Patrice began her real estate career in 1985. After 30+ years of volunteering and advocating for things she believes in\, her motto is “Been there\, Done That\, Got the T-shirt”.  She is a past President of both Cape Fear REALTORS® and President of NC REALTORS®.  She is a graduate of the NC REALTORS® & NAR’s Leadership Academy. \nPatrice is always looking for ways to raise the bar of professionalism for our members. She is an approved instructor for the NCREC and teaches NAR and REBI designation and certification courses.
URL:https://www.ncrealtors.org/event/080824-the-road-to-the-perfect-contract/
LOCATION:Virtual
CATEGORIES:CE Courses,Designations & Certifications,GRI,NAR Lawsuits
ATTACH;FMTTYPE=image/jpeg:https://www.ncrealtors.org/wp-content/uploads/RoadToThePerfectContract_FeatureImage-1.jpg
END:VEVENT
BEGIN:VEVENT
DTSTART;TZID=America/New_York:20240808T130000
DTEND;TZID=America/New_York:20240808T140000
DTSTAMP:20260419T153501
CREATED:20240722T203559Z
LAST-MODIFIED:20240722T203816Z
UID:10000173-1723122000-1723125600@www.ncrealtors.org
SUMMARY:Partner Webinar | Wise Agent
DESCRIPTION:Leading the Way in Real Estate with CRM Technology \nHost/Co-Host of Webinar\nEleni Sommerschield – COO of Wise Agent\nErika Ornelas – Industry Relations & Partner Specialist at Wise Agent \nJoin us for an exclusive webinar with Wise Agent where our expert hosts will reveal the essential tools and CRM strategies that are proven to drive success and keep you ahead of the competition. This is  your opportunity to learn from industry professionals and get your questions answered! \nRegister now to secure your spot and lead the way with the latest in real estate technology!
URL:https://www.ncrealtors.org/event/080824-partner-webinar-wise-agent/
LOCATION:Virtual
CATEGORIES:Partner
ATTACH;FMTTYPE=image/png:https://www.ncrealtors.org/wp-content/uploads/WiseAgent-blue_375x168.png
END:VEVENT
BEGIN:VEVENT
DTSTART;TZID=America/New_York:20240812T090000
DTEND;TZID=America/New_York:20240813T163000
DTSTAMP:20260419T153501
CREATED:20240726T150502Z
LAST-MODIFIED:20240726T150506Z
UID:10000177-1723453200-1723566600@www.ncrealtors.org
SUMMARY:In-Person | Accredited Buyer's Representative (ABR®)
DESCRIPTION:The Accredited Buyer’s Representative (ABR®) Designation Course will give you the professional tools and knowledge to be an advocate and guide for your buyer-clients. \nRecently updated with new information and research relevant to today’s market\, the ABR® Designation Course explores every aspect of residential real estate transactions from a buyer’s perspective. Learn how to attract more buyer-clients and elevate your services to ensure you are meeting all your fiduciary responsibilities when representing buyers. After completion of the course\, you’ll be on your way to earning the Accredited Buyer’s Representation (ABR®) Designation\, which can be found here. \n\nLunch\, soft drinks\, water and snacks provided \nPrice (with CE): $10 \n	\n\n\n\n\n	\n	\n				\n		Presented by\n							\n								\n									\n					\n				Patrice Willetts\n														\n											\n							\n					Patrice began her real estate career in 1985. After 30+ years of volunteering and advocating for things she believes in\, her motto is “Been there\, Done That\, Got the T-shirt”.  She is a past President of both Cape Fear REALTORS® and President of NC REALTORS®.  She is a graduate of the NC REALTORS® & NAR’s Leadership Academy. \nPatrice is always looking for ways to raise the bar of professionalism for our members. She is an approved instructor for the NCREC and teaches NAR and REBI designation and certification courses.
URL:https://www.ncrealtors.org/event/081224-abr/
LOCATION:High Point Regional Association of REALTORS®\, 1830 Eastchester Dr\, High Point\, NC\, 27265
CATEGORIES:CE Courses,Designations & Certifications,NAR Lawsuits
ATTACH;FMTTYPE=image/jpeg:https://www.ncrealtors.org/wp-content/uploads/081924ABR_FeatureImage.jpg
END:VEVENT
BEGIN:VEVENT
DTSTART;TZID=America/New_York:20240815T090000
DTEND;TZID=America/New_York:20240815T130000
DTSTAMP:20260419T153501
CREATED:20240711T163753Z
LAST-MODIFIED:20240806T192403Z
UID:10000167-1723712400-1723726800@www.ncrealtors.org
SUMMARY:Virtual | The Road to the Perfect Contract
DESCRIPTION:WE’RE SORRY! THIS CLASS IS FULL.\nThe Road to the Perfect Contract is a class that every broker will benefit from! This course will decipher the many parts of the Buyer Agency Agreement and the Offer to Purchase and Contract. You’ll walk out with the full understanding of the requirements of proper representation\, tips on how to avoid miscommunication when entering into a Buyer Agency Agreement\, utilize forms properly\, and establish a working relationship with an unrepresented seller. \n\nThis class provides the following credit: 4 Hours of CE & GRI Designation \n	\n\n\n\n\n\n\n	\n	\n				\n		Presented by\n							\n								\n									\n					\n				Patrice Willetts\n														\n											\n							\n					Patrice began her real estate career in 1985. After 30+ years of volunteering and advocating for things she believes in\, her motto is “Been there\, Done That\, Got the T-shirt”.  She is a past President of both Cape Fear REALTORS® and President of NC REALTORS®.  She is a graduate of the NC REALTORS® & NAR’s Leadership Academy. \nPatrice is always looking for ways to raise the bar of professionalism for our members. She is an approved instructor for the NCREC and teaches NAR and REBI designation and certification courses.
URL:https://www.ncrealtors.org/event/081524-road-to-the-perfect-contract/
LOCATION:Virtual
CATEGORIES:CE Courses,Designations & Certifications,GRI,NAR Lawsuits
ATTACH;FMTTYPE=image/jpeg:https://www.ncrealtors.org/wp-content/uploads/RoadToThePerfectContract_FeatureImage-1.jpg
END:VEVENT
BEGIN:VEVENT
DTSTART;TZID=America/New_York:20240819T073000
DTEND;TZID=America/New_York:20240819T170000
DTSTAMP:20260419T153501
CREATED:20240425T171207Z
LAST-MODIFIED:20240425T200534Z
UID:10000132-1724052600-1724086800@www.ncrealtors.org
SUMMARY:TCAR’s 30th Annual Commercial Classic
DESCRIPTION:7:30am Registration & Breakfast\n9:00am Shotgun Start\n3:00pm Awards Reception & Lunch \n\nIndividual $175\nFoursome $700
URL:https://www.ncrealtors.org/event/081924-tcars-30th-annual-commercial-classic/
LOCATION:MacGregor Downs Country Club\, 430 St. Andrews Lane\, Cary\, NC\, 27511
CATEGORIES:Commercial
END:VEVENT
BEGIN:VEVENT
DTSTART;TZID=America/New_York:20240821T090000
DTEND;TZID=America/New_York:20240821T170000
DTSTAMP:20260419T153501
CREATED:20240117T213232Z
LAST-MODIFIED:20240117T213333Z
UID:10000096-1724230800-1724259600@www.ncrealtors.org
SUMMARY:Virtual | State of Real Estate
DESCRIPTION:The State of Real Estate event will provide a comprehensive overview of current North Carolina market trends\, emerging opportunities\, and challenges our industry faces. Esteemed speakers and industry experts will share their insights\, strategies\, and forecasts for the future. This event is a valuable platform for knowledge exchange among professionals in the real estate sector. \nMORE INFORMATION COMING SOON
URL:https://www.ncrealtors.org/event/2024-state-of-real-estate/
LOCATION:NC
CATEGORIES:Annual Events
END:VEVENT
BEGIN:VEVENT
DTSTART;TZID=America/New_York:20240828T140000
DTEND;TZID=America/New_York:20240828T150000
DTSTAMP:20260419T153501
CREATED:20240819T171225Z
LAST-MODIFIED:20240819T171229Z
UID:10000180-1724853600-1724857200@www.ncrealtors.org
SUMMARY:Virtual | Craft Commercial Content in Seconds with RPR’s ScriptWriter Tool
DESCRIPTION:RPR’s Trade Area data includes information on demographic facts and stats for a selected area\, along with the area’s top socioeconomic and demographic segments. These are important data sets to help clients and customers understand where a commercial business is most likely to succeed. \nBut interpreting the data can be challenging! RPR’s AI Commercial ScriptWriter Tool is here to help. \nRather than sift through the data sets\, tap RPR®’s Commercial AI ScriptWriter to package it in a format suitable for your audience. Learn how in a free live webinar Aug. 28 at 2pm ET. \nHost:  NAR
URL:https://www.ncrealtors.org/event/082824-craft-commercial-content-in-seconds/
LOCATION:Virtual
CATEGORIES:Commercial
END:VEVENT
END:VCALENDAR