BEGIN:VCALENDAR
VERSION:2.0
PRODID:-//NC REALTORS® - ECPv6.15.16.1//NONSGML v1.0//EN
CALSCALE:GREGORIAN
METHOD:PUBLISH
X-ORIGINAL-URL:https://www.ncrealtors.org
X-WR-CALDESC:Events for NC REALTORS®
REFRESH-INTERVAL;VALUE=DURATION:PT1H
X-Robots-Tag:noindex
X-PUBLISHED-TTL:PT1H
BEGIN:VTIMEZONE
TZID:America/New_York
BEGIN:DAYLIGHT
TZOFFSETFROM:-0500
TZOFFSETTO:-0400
TZNAME:EDT
DTSTART:20250309T070000
END:DAYLIGHT
BEGIN:STANDARD
TZOFFSETFROM:-0400
TZOFFSETTO:-0500
TZNAME:EST
DTSTART:20251102T060000
END:STANDARD
BEGIN:DAYLIGHT
TZOFFSETFROM:-0500
TZOFFSETTO:-0400
TZNAME:EDT
DTSTART:20260308T070000
END:DAYLIGHT
BEGIN:STANDARD
TZOFFSETFROM:-0400
TZOFFSETTO:-0500
TZNAME:EST
DTSTART:20261101T060000
END:STANDARD
BEGIN:DAYLIGHT
TZOFFSETFROM:-0500
TZOFFSETTO:-0400
TZNAME:EDT
DTSTART:20270314T070000
END:DAYLIGHT
BEGIN:STANDARD
TZOFFSETFROM:-0400
TZOFFSETTO:-0500
TZNAME:EST
DTSTART:20271107T060000
END:STANDARD
END:VTIMEZONE
BEGIN:VEVENT
DTSTART;TZID=America/New_York:20260601T000000
DTEND;TZID=America/New_York:20260604T233000
DTSTAMP:20260419T113056
CREATED:20250709T195903Z
LAST-MODIFIED:20250709T195909Z
UID:10000293-1780272000-1780615800@www.ncrealtors.org
SUMMARY:Event | Legislative Meetings
DESCRIPTION:
URL:https://www.ncrealtors.org/special-events/legislative-meetings/
LOCATION:Raleigh Marriott City Center\, 500 Fayetteville St\, Raleigh\, NC\, 27601
CATEGORIES:Annual Events
END:VEVENT
BEGIN:VEVENT
DTSTART;TZID=America/New_York:20260602T000000
DTEND;TZID=America/New_York:20260602T233000
DTSTAMP:20260419T113056
CREATED:20250711T141258Z
LAST-MODIFIED:20250711T141650Z
UID:10000295-1780358400-1780443000@www.ncrealtors.org
SUMMARY:Event | State of Real Estate
DESCRIPTION:
URL:https://www.ncrealtors.org/special-events/state-of-real-estate
LOCATION:Raleigh Marriott City Center\, 500 Fayetteville St\, Raleigh\, NC\, 27601
CATEGORIES:Annual Events
END:VEVENT
BEGIN:VEVENT
DTSTART;TZID=America/New_York:20260619T083000
DTEND;TZID=America/New_York:20260619T170000
DTSTAMP:20260419T113056
CREATED:20251119T215155Z
LAST-MODIFIED:20251119T215233Z
UID:10000332-1781857800-1781888400@www.ncrealtors.org
SUMMARY:Office Closed - Juneteenth
DESCRIPTION:The NC REALTORS® offices will be closed in observance of Juneteenth.
URL:https://www.ncrealtors.org/event/office-closed-juneteenth-2026/
LOCATION:NC
CATEGORIES:Office Closings
ATTACH;FMTTYPE=image/jpeg:https://www.ncrealtors.org/wp-content/uploads/Juneteenth_FeatureImage.jpg
END:VEVENT
END:VCALENDAR