BEGIN:VCALENDAR
VERSION:2.0
PRODID:-//NC REALTORS® - ECPv6.15.16.1//NONSGML v1.0//EN
CALSCALE:GREGORIAN
METHOD:PUBLISH
X-ORIGINAL-URL:https://www.ncrealtors.org
X-WR-CALDESC:Events for NC REALTORS®
REFRESH-INTERVAL;VALUE=DURATION:PT1H
X-Robots-Tag:noindex
X-PUBLISHED-TTL:PT1H
BEGIN:VTIMEZONE
TZID:America/New_York
BEGIN:DAYLIGHT
TZOFFSETFROM:-0500
TZOFFSETTO:-0400
TZNAME:EDT
DTSTART:20250309T070000
END:DAYLIGHT
BEGIN:STANDARD
TZOFFSETFROM:-0400
TZOFFSETTO:-0500
TZNAME:EST
DTSTART:20251102T060000
END:STANDARD
BEGIN:DAYLIGHT
TZOFFSETFROM:-0500
TZOFFSETTO:-0400
TZNAME:EDT
DTSTART:20260308T070000
END:DAYLIGHT
BEGIN:STANDARD
TZOFFSETFROM:-0400
TZOFFSETTO:-0500
TZNAME:EST
DTSTART:20261101T060000
END:STANDARD
BEGIN:DAYLIGHT
TZOFFSETFROM:-0500
TZOFFSETTO:-0400
TZNAME:EDT
DTSTART:20270314T070000
END:DAYLIGHT
BEGIN:STANDARD
TZOFFSETFROM:-0400
TZOFFSETTO:-0500
TZNAME:EST
DTSTART:20271107T060000
END:STANDARD
END:VTIMEZONE
BEGIN:VEVENT
DTSTART;TZID=America/New_York:20260703T083000
DTEND;TZID=America/New_York:20260703T170000
DTSTAMP:20260419T125356
CREATED:20251119T215456Z
LAST-MODIFIED:20251119T215502Z
UID:10000333-1783067400-1783098000@www.ncrealtors.org
SUMMARY:Office Closed - Independence Day
DESCRIPTION:The NC REALTORS® offices will be closed in observance of Independence Day.
URL:https://www.ncrealtors.org/event/office-closed-independence-day-2026/
LOCATION:NC
CATEGORIES:Office Closings
ATTACH;FMTTYPE=image/jpeg:https://www.ncrealtors.org/wp-content/uploads/IndependenceDay_FeatureImage.jpg
END:VEVENT
BEGIN:VEVENT
DTSTART;TZID=America/New_York:20260715T130000
DTEND;TZID=America/New_York:20260715T140000
DTSTAMP:20260419T125356
CREATED:20260326T210621Z
LAST-MODIFIED:20260326T210853Z
UID:10000371-1784120400-1784124000@www.ncrealtors.org
SUMMARY:Webinar | 2026 Property Management Forms: Key Changes & Insights
DESCRIPTION:Join us for an informative panel discussion designed to help members confidently navigate the  2026 Property Management Forms rollout. \nHear directly from NCR Legal Counsel John Wait\, 2026 PMD Chair Pam Greene\, and Forms Committee member Amy Hedgecock\, as they break down key updates\, provide valuable insights behind the changes\, and highlight what these revisions mean for your day-to-day business. This session will offer practical guidance\, clarify common questions\, and ensure you  are well-prepared to implement the new forms effectively. \nDon’t miss this opportunity to learn from the  experts and gain the knowledge you need to stay compliant and ahead in your property management  practice.
URL:https://www.ncrealtors.org/event/071526-webinar/
LOCATION:Virtual
CATEGORIES:Legal & Ethics,Property Management - PMD,Webinars & Mobile Mondays
ATTACH;FMTTYPE=image/jpeg:https://www.ncrealtors.org/wp-content/uploads/071526_PropMgmtForms_FeatureImage.jpg
END:VEVENT
BEGIN:VEVENT
DTSTART;TZID=America/New_York:20260721T000000
DTEND;TZID=America/New_York:20260724T235959
DTSTAMP:20260419T125356
CREATED:20250722T185603Z
LAST-MODIFIED:20250722T185610Z
UID:10000296-1784592000-1784937599@www.ncrealtors.org
SUMMARY:Event | Regional AE Conference
DESCRIPTION:Targeting local association executives in the Southeast\, this annual event is a forum to share what is happening at the national and state levels and how issues and opportunities impact members at the local level. This event provides association executives\, from CEOs to directors to managers\, epic opportunities to network with their peers from other associations. \nAttendance at this event offers an estimated 16 hours of Professional Development Training that will count towards Core Standards requirements. \nThe event is hosted by the NC REALTORS® and the Georgia REALTORS® and rotates between the two states. \nQuestions? Contact NC REALTORS® at events@ncrealtors.org
URL:https://www.ncrealtors.org/special-events/regional-ae-conference/
LOCATION:Brasstown Valley Resort & Spa\, 6321 US-76\, Young Harris\, GA\, 30582
CATEGORIES:Annual Events
END:VEVENT
END:VCALENDAR