BEGIN:VCALENDAR
VERSION:2.0
PRODID:-//NC REALTORS® - ECPv6.15.16.1//NONSGML v1.0//EN
CALSCALE:GREGORIAN
METHOD:PUBLISH
X-WR-CALNAME:NC REALTORS®
X-ORIGINAL-URL:https://www.ncrealtors.org
X-WR-CALDESC:Events for NC REALTORS®
REFRESH-INTERVAL;VALUE=DURATION:PT1H
X-Robots-Tag:noindex
X-PUBLISHED-TTL:PT1H
BEGIN:VTIMEZONE
TZID:America/New_York
BEGIN:DAYLIGHT
TZOFFSETFROM:-0500
TZOFFSETTO:-0400
TZNAME:EDT
DTSTART:20230312T070000
END:DAYLIGHT
BEGIN:STANDARD
TZOFFSETFROM:-0400
TZOFFSETTO:-0500
TZNAME:EST
DTSTART:20231105T060000
END:STANDARD
BEGIN:DAYLIGHT
TZOFFSETFROM:-0500
TZOFFSETTO:-0400
TZNAME:EDT
DTSTART:20240310T070000
END:DAYLIGHT
BEGIN:STANDARD
TZOFFSETFROM:-0400
TZOFFSETTO:-0500
TZNAME:EST
DTSTART:20241103T060000
END:STANDARD
BEGIN:DAYLIGHT
TZOFFSETFROM:-0500
TZOFFSETTO:-0400
TZNAME:EDT
DTSTART:20250309T070000
END:DAYLIGHT
BEGIN:STANDARD
TZOFFSETFROM:-0400
TZOFFSETTO:-0500
TZNAME:EST
DTSTART:20251102T060000
END:STANDARD
BEGIN:DAYLIGHT
TZOFFSETFROM:-0500
TZOFFSETTO:-0400
TZNAME:EDT
DTSTART:20260308T070000
END:DAYLIGHT
BEGIN:STANDARD
TZOFFSETFROM:-0400
TZOFFSETTO:-0500
TZNAME:EST
DTSTART:20261101T060000
END:STANDARD
END:VTIMEZONE
BEGIN:VEVENT
DTSTART;TZID=America/New_York:20250825T083000
DTEND;TZID=America/New_York:20250825T163000
DTSTAMP:20260419T090623
CREATED:20250715T140745Z
LAST-MODIFIED:20250715T140945Z
UID:10000299-1756110600-1756139400@www.ncrealtors.org
SUMMARY:Appraisal | Appraiser’s Guide to the New URAR
DESCRIPTION:NC REALTORS® is excited to partner with the North Carolina Chapter of the Appraisal Institute (NCAI) to offer our appraiser members access to Appraisal Institute (AI) member pricing on select upcoming educational offerings. We hope you’ll take advantage of this opportunity to continue your professional development at a reduced cost. \nFannie Mae and Freddie Mac developed this education to provide appraisers with consistent training on the new reports and updated dataset. Their collaboration ensures a smooth transition for all stakeholders involved in federally related mortgage transactions. \nThis course is NC Appraisal Board Approved for 7 Hours of CE.\nUse Promo Code URAR25 for a $25 savings! \n*Please note – promotional code is valid only for NC REALTORS® Appraisers who are not AI members. \nRegistration Questions?  Contact customerservice@appraisalinstitute.org.
URL:https://www.ncrealtors.org/event/082525-appraisers-guide-to-the-new-urar/
LOCATION:Canopy REALTOR® Association\, 1120 Pearl Park Way\, Charlotte\, NC\, 28204
CATEGORIES:Appraisal
END:VEVENT
BEGIN:VEVENT
DTSTART;TZID=America/New_York:20250312T080000
DTEND;TZID=America/New_York:20250313T170000
DTSTAMP:20260419T090623
CREATED:20250220T222838Z
LAST-MODIFIED:20250220T222843Z
UID:10000240-1741766400-1741885200@www.ncrealtors.org
SUMMARY:Appraisal | Valuation Law Symposium
DESCRIPTION:The 2025 NC Appraisal Institute Valuation Law Symposium offers appraisal professionals a two-day program focused on crucial legal and theoretical valuation aspects.
URL:https://www.ncrealtors.org/event/031225-valuation-law-symposium/
LOCATION:Canopy REALTOR® Association\, 1120 Pearl Park Way\, Charlotte\, NC\, 28204
CATEGORIES:Appraisal
ATTACH;FMTTYPE=image/jpeg:https://www.ncrealtors.org/wp-content/uploads/031225ValuationLawSymposium_FeatureImage.jpg
END:VEVENT
BEGIN:VEVENT
DTSTART;TZID=America/New_York:20250203T083000
DTEND;TZID=America/New_York:20250206T163000
DTSTAMP:20260419T090623
CREATED:20250124T224052Z
LAST-MODIFIED:20250124T224056Z
UID:10000227-1738571400-1738859400@www.ncrealtors.org
SUMMARY:CI 103:  User Decision Analysis for CIRE
DESCRIPTION:Utilize market and financial analysis skills for user space decisions\, and apply cost-of-occupancy models for ownership and leasing. In CI 103\, you’ll learn such advanced skills as how to perform a comparative lease analysis between competing assets\, analyze a sale-leaseback to help a client generate capital from their owned real estate\, and advise a client on a lease vs. purchase decision to facilitate an expansion.
URL:https://www.ncrealtors.org/event/ci-103-user-decision-analysis-for-cire/
LOCATION:Canopy REALTOR® Association\, 1120 Pearl Park Way\, Charlotte\, NC\, 28204
CATEGORIES:Commercial
END:VEVENT
BEGIN:VEVENT
DTSTART;TZID=America/New_York:20240613T100000
DTEND;TZID=America/New_York:20240613T123000
DTSTAMP:20260419T090623
CREATED:20240530T204821Z
LAST-MODIFIED:20240530T204828Z
UID:10000160-1718272800-1718281800@www.ncrealtors.org
SUMMARY:LGBTQ+ Real Estate Alliance Ally Certification Course
DESCRIPTION:This thought-provoking and interactive session will help you develop a better understanding of the LGBTQ+ community and provide you with knowledge on how to work with potential homebuyers and sellers who identify as part of the community. Intended for straight Allies\, this course will open your eyes to discrimination issues LGBTQ+ clients face and help you start your journey in building cultural competency. Unconscious bias creeps into human interactions when you don’t even realize it. Increase your understanding of the LGBTQ community. Learn what makes a good ally and how to respectfully engage with LGBTQ+ home buyers. \n\nRegistration Deadline: 6/11/2024 \nCanopy Members:  \n\n$30 First 50 Members\n$75 after 50 enrollments\n\nNon-Members: $75
URL:https://www.ncrealtors.org/event/061324-ally-certification-course/
LOCATION:Canopy REALTOR® Association\, 1120 Pearl Park Way\, Charlotte\, NC\, 28204
CATEGORIES:DEI
END:VEVENT
BEGIN:VEVENT
DTSTART;TZID=America/New_York:20240430T083000
DTEND;TZID=America/New_York:20240503T163000
DTSTAMP:20260419T090623
CREATED:20240425T165927Z
LAST-MODIFIED:20240425T195929Z
UID:10000129-1714465800-1714753800@www.ncrealtors.org
SUMMARY:CCIM - CI 101:  Financial Analysis for Commercial Investment Real Estate
DESCRIPTION:CI 101 is a bedrock class for real estate practitioners at a time when risk mitigation\, pricing\, and cycle assurance have become critical to investors. CI 101 introduces the CCIM Cash Flow Model\, a tool for ensuring your investment decisions are based on wise finance fundamentals. During the course\, you will learn how to use key financial concepts such as Internal Rate of Return (IRR)\, Net Present Value (NPV)\, Cap Rate\, Capital Accumulation\, and the Annual Growth Rate of Capital to compare different types of commercial real estate investments. \n\nTuition: \n\n$1\,299 for CCIM Institute members\n$1\,599 for REALTORS®\n$1\,899 for non-members
URL:https://www.ncrealtors.org/event/043024-ccim-ci101/
LOCATION:Canopy REALTOR® Association\, 1120 Pearl Park Way\, Charlotte\, NC\, 28204
CATEGORIES:Commercial
END:VEVENT
END:VCALENDAR