BEGIN:VCALENDAR
VERSION:2.0
PRODID:-//NC REALTORS® - ECPv6.15.16.1//NONSGML v1.0//EN
CALSCALE:GREGORIAN
METHOD:PUBLISH
X-WR-CALNAME:NC REALTORS®
X-ORIGINAL-URL:https://www.ncrealtors.org
X-WR-CALDESC:Events for NC REALTORS®
REFRESH-INTERVAL;VALUE=DURATION:PT1H
X-Robots-Tag:noindex
X-PUBLISHED-TTL:PT1H
BEGIN:VTIMEZONE
TZID:America/New_York
BEGIN:DAYLIGHT
TZOFFSETFROM:-0500
TZOFFSETTO:-0400
TZNAME:EDT
DTSTART:20240310T070000
END:DAYLIGHT
BEGIN:STANDARD
TZOFFSETFROM:-0400
TZOFFSETTO:-0500
TZNAME:EST
DTSTART:20241103T060000
END:STANDARD
BEGIN:DAYLIGHT
TZOFFSETFROM:-0500
TZOFFSETTO:-0400
TZNAME:EDT
DTSTART:20250309T070000
END:DAYLIGHT
BEGIN:STANDARD
TZOFFSETFROM:-0400
TZOFFSETTO:-0500
TZNAME:EST
DTSTART:20251102T060000
END:STANDARD
BEGIN:DAYLIGHT
TZOFFSETFROM:-0500
TZOFFSETTO:-0400
TZNAME:EDT
DTSTART:20260308T070000
END:DAYLIGHT
BEGIN:STANDARD
TZOFFSETFROM:-0400
TZOFFSETTO:-0500
TZNAME:EST
DTSTART:20261101T060000
END:STANDARD
END:VTIMEZONE
BEGIN:VEVENT
DTSTART;TZID=America/New_York:20250401T090000
DTEND;TZID=America/New_York:20250401T120000
DTSTAMP:20260423T214305
CREATED:20250207T223645Z
LAST-MODIFIED:20250207T223649Z
UID:10000232-1743498000-1743508800@www.ncrealtors.org
SUMMARY:2025 NC CCIM Charlotte Market Forecast
DESCRIPTION:The 2025 NC CCIM Charlotte Market Forecast is where industry experts will provide valuable insights into the real estate market trends and economic outlook for the Charlotte area. This event will feature speakers\, panel discussions\, and networking opportunities\, making it an essential gathering for real estate professionals looking to stay ahead in a dynamic market. Don’t miss this chance to connect with peers and gain critical knowledge to inform your investment strategies!
URL:https://www.ncrealtors.org/event/040125-nc-ccim-charlotte-market-forecast/
LOCATION:Hilton Charlotte University Place\, 8629 J M Keynes Drive\, Charlotte\, NC\, 28262
CATEGORIES:Commercial
END:VEVENT
END:VCALENDAR