BEGIN:VCALENDAR
VERSION:2.0
PRODID:-//NC REALTORS® - ECPv6.15.16.1//NONSGML v1.0//EN
CALSCALE:GREGORIAN
METHOD:PUBLISH
X-WR-CALNAME:NC REALTORS®
X-ORIGINAL-URL:https://www.ncrealtors.org
X-WR-CALDESC:Events for NC REALTORS®
REFRESH-INTERVAL;VALUE=DURATION:PT1H
X-Robots-Tag:noindex
X-PUBLISHED-TTL:PT1H
BEGIN:VTIMEZONE
TZID:America/New_York
BEGIN:DAYLIGHT
TZOFFSETFROM:-0500
TZOFFSETTO:-0400
TZNAME:EDT
DTSTART:20240310T070000
END:DAYLIGHT
BEGIN:STANDARD
TZOFFSETFROM:-0400
TZOFFSETTO:-0500
TZNAME:EST
DTSTART:20241103T060000
END:STANDARD
BEGIN:DAYLIGHT
TZOFFSETFROM:-0500
TZOFFSETTO:-0400
TZNAME:EDT
DTSTART:20250309T070000
END:DAYLIGHT
BEGIN:STANDARD
TZOFFSETFROM:-0400
TZOFFSETTO:-0500
TZNAME:EST
DTSTART:20251102T060000
END:STANDARD
BEGIN:DAYLIGHT
TZOFFSETFROM:-0500
TZOFFSETTO:-0400
TZNAME:EDT
DTSTART:20260308T070000
END:DAYLIGHT
BEGIN:STANDARD
TZOFFSETFROM:-0400
TZOFFSETTO:-0500
TZNAME:EST
DTSTART:20261101T060000
END:STANDARD
END:VTIMEZONE
BEGIN:VEVENT
DTSTART;TZID=America/New_York:20251209T090000
DTEND;TZID=America/New_York:20251209T170000
DTSTAMP:20260419T155655
CREATED:20250227T202226Z
LAST-MODIFIED:20250227T202232Z
UID:10000247-1765270800-1765299600@www.ncrealtors.org
SUMMARY:Appraisal | North Carolina Appraisal Board Meeting
DESCRIPTION:More information at https://www.ncappraisalboard.org/about/meeting.htm
URL:https://www.ncrealtors.org/event/120925-ncab-meeting/
LOCATION:North Carolina Appraisal Board\, 5830 Six Forks Road\, Raleigh\, NC\, 27609
CATEGORIES:Appraisal
END:VEVENT
BEGIN:VEVENT
DTSTART;TZID=America/New_York:20251028T090000
DTEND;TZID=America/New_York:20251028T170000
DTSTAMP:20260419T155655
CREATED:20250227T202027Z
LAST-MODIFIED:20250227T202033Z
UID:10000246-1761642000-1761670800@www.ncrealtors.org
SUMMARY:Appraisal | North Carolina Appraisal Board Meeting
DESCRIPTION:More information at https://www.ncappraisalboard.org/about/meeting.htm
URL:https://www.ncrealtors.org/event/102825-ncab-meeting/
LOCATION:North Carolina Appraisal Board\, 5830 Six Forks Road\, Raleigh\, NC\, 27609
CATEGORIES:Appraisal
END:VEVENT
BEGIN:VEVENT
DTSTART;TZID=America/New_York:20250819T090000
DTEND;TZID=America/New_York:20250819T170000
DTSTAMP:20260419T155655
CREATED:20250227T201821Z
LAST-MODIFIED:20250227T201826Z
UID:10000245-1755594000-1755622800@www.ncrealtors.org
SUMMARY:Appraisal | North Carolina Appraisal Board Meeting
DESCRIPTION:More information at https://www.ncappraisalboard.org/about/meeting.htm
URL:https://www.ncrealtors.org/event/081925-ncab-meeting/
LOCATION:North Carolina Appraisal Board\, 5830 Six Forks Road\, Raleigh\, NC\, 27609
CATEGORIES:Appraisal
END:VEVENT
BEGIN:VEVENT
DTSTART;TZID=America/New_York:20250624T090000
DTEND;TZID=America/New_York:20250624T170000
DTSTAMP:20260419T155655
CREATED:20250227T201528Z
LAST-MODIFIED:20250227T201533Z
UID:10000244-1750755600-1750784400@www.ncrealtors.org
SUMMARY:Appraisal | North Carolina Appraisal Board Meeting
DESCRIPTION:More information at https://www.ncappraisalboard.org/about/meeting.htm
URL:https://www.ncrealtors.org/event/062425-ncab-meeting/
LOCATION:North Carolina Appraisal Board\, 5830 Six Forks Road\, Raleigh\, NC\, 27609
CATEGORIES:Appraisal
END:VEVENT
BEGIN:VEVENT
DTSTART;TZID=America/New_York:20250422T090000
DTEND;TZID=America/New_York:20250422T170000
DTSTAMP:20260419T155655
CREATED:20250227T201227Z
LAST-MODIFIED:20250227T201232Z
UID:10000243-1745312400-1745341200@www.ncrealtors.org
SUMMARY:Appraisal | North Carolina Appraisal Board Meeting
DESCRIPTION:More information at https://www.ncappraisalboard.org/about/meeting.htm
URL:https://www.ncrealtors.org/event/042225-ncab-meeting/
LOCATION:North Carolina Appraisal Board\, 5830 Six Forks Road\, Raleigh\, NC\, 27609
CATEGORIES:Appraisal
END:VEVENT
END:VCALENDAR