BEGIN:VCALENDAR
VERSION:2.0
PRODID:-//NC REALTORS® - ECPv6.15.16.1//NONSGML v1.0//EN
CALSCALE:GREGORIAN
METHOD:PUBLISH
X-ORIGINAL-URL:https://www.ncrealtors.org
X-WR-CALDESC:Events for NC REALTORS®
REFRESH-INTERVAL;VALUE=DURATION:PT1H
X-Robots-Tag:noindex
X-PUBLISHED-TTL:PT1H
BEGIN:VTIMEZONE
TZID:America/New_York
BEGIN:DAYLIGHT
TZOFFSETFROM:-0500
TZOFFSETTO:-0400
TZNAME:EDT
DTSTART:20220313T070000
END:DAYLIGHT
BEGIN:STANDARD
TZOFFSETFROM:-0400
TZOFFSETTO:-0500
TZNAME:EST
DTSTART:20221106T060000
END:STANDARD
BEGIN:DAYLIGHT
TZOFFSETFROM:-0500
TZOFFSETTO:-0400
TZNAME:EDT
DTSTART:20230312T070000
END:DAYLIGHT
BEGIN:STANDARD
TZOFFSETFROM:-0400
TZOFFSETTO:-0500
TZNAME:EST
DTSTART:20231105T060000
END:STANDARD
BEGIN:DAYLIGHT
TZOFFSETFROM:-0500
TZOFFSETTO:-0400
TZNAME:EDT
DTSTART:20240310T070000
END:DAYLIGHT
BEGIN:STANDARD
TZOFFSETFROM:-0400
TZOFFSETTO:-0500
TZNAME:EST
DTSTART:20241103T060000
END:STANDARD
BEGIN:DAYLIGHT
TZOFFSETFROM:-0500
TZOFFSETTO:-0400
TZNAME:EDT
DTSTART:20250309T070000
END:DAYLIGHT
BEGIN:STANDARD
TZOFFSETFROM:-0400
TZOFFSETTO:-0500
TZNAME:EST
DTSTART:20251102T060000
END:STANDARD
BEGIN:DAYLIGHT
TZOFFSETFROM:-0500
TZOFFSETTO:-0400
TZNAME:EDT
DTSTART:20260308T070000
END:DAYLIGHT
BEGIN:STANDARD
TZOFFSETFROM:-0400
TZOFFSETTO:-0500
TZNAME:EST
DTSTART:20261101T060000
END:STANDARD
END:VTIMEZONE
BEGIN:VTIMEZONE
TZID:UTC
BEGIN:STANDARD
TZOFFSETFROM:+0000
TZOFFSETTO:+0000
TZNAME:UTC
DTSTART:20220101T000000
END:STANDARD
END:VTIMEZONE
BEGIN:VEVENT
DTSTART;TZID=America/New_York:20251110T090000
DTEND;TZID=America/New_York:20251110T160000
DTSTAMP:20260421T140312
CREATED:20250912T203208Z
LAST-MODIFIED:20250912T203221Z
UID:10000318-1762765200-1762790400@www.ncrealtors.org
SUMMARY:In-Person | Planning and Zoning
DESCRIPTION:This Elective and Certificate Course will give you a greater understanding of the planning and zoning process so you can serve as both a trusted REALTOR® and a community advocate. To make this class especially relevant to our members\, OBAR’s Government Affairs Director Donna Creef will join the session to provide local context and real examples from the Outer Banks. This course is an excellent way to prepare if you’re considering serving on OBAR’s Government Affairs Committee\, applying for a local Planning Board\, or even running for public office in your town. \n\nHosted by: Outer Banks Association of REALTORS® \nSnacks will be provided. \nThis class provides the following credit: 4 hours of CE \nRegistration Fee (Includes CE): $35 \n	\n\n\n\n\n	\n	\n				\n		Presented by\n							\n								\n									\n					\n				Nate K. Johnson\n														2026 Region 9 Regional Vice President	\n														\n														National Association of REALTORS®	\n											\n							\n					Nate K. Johnson (ABR®\, CIPS\, CRS\, GRI\, SRES®\, AHWD\, C2EX\, PSA)\, a REALTOR® from St. Louis\, Mo.\, serves Arkansas\, Kansas\, Missouri\, and Oklahoma as the National Association of REALTORS®’ 2026 Region 9 Regional Vice President. Over his 25-year career in real estate\, he has helped countless individuals achieve their real estate goals and has held leadership roles at the local\, state\, and national levels. He is President of The Real Estate Solutions Group at Redkey Realty Leaders\, where he oversees daily operations and leads a residential sales team. \nAn accomplished instructor and speaker\, Nate helps people become the best version of themselves\, Nate teaches and speaks on a variety of other topics\, including fair housing\, Code of Ethics\, business planning\, and leadership. \nAt the national level\, Nate has served on the NAR Board of Directors and held numerous governance positions\, including Chair for both the Sustainability Advisory Group and Smart Growth Advisory Board; and Committee Liaison for the Business Issues Policy\, Conventional Financing and Policy\, and Fair Housing Policy committees. In 2020\, he served as Public & Federal Issues Liaison under President Vince Malta. \nAdditionally\, Nate serves as President of the Board of Directors for the Metropolitan St. Louis Equal Housing Opportunity Council\, which is working to end illegal housing discrimination in the metropolitan St. Louis area.
URL:https://www.ncrealtors.org/event/111025-planning-and-zoning/
LOCATION:Outer Banks Association of REALTORS®\, 201 W 8th St\, Nags Head\, NC\, 27959
CATEGORIES:CE Courses
END:VEVENT
BEGIN:VEVENT
DTSTART;TZID=America/New_York:20250417T090000
DTEND;TZID=America/New_York:20250417T133000
DTSTAMP:20260421T140312
CREATED:20250220T210920Z
LAST-MODIFIED:20250220T210925Z
UID:10000238-1744880400-1744896600@www.ncrealtors.org
SUMMARY:In-Person | Bias Override: Overcoming Barriers to Fair Housing
DESCRIPTION:Bias Override: Overcoming Barriers to Fair Housing helps interrupt stereotypical thinking to avoid fair housing pitfalls and provide equal professional service. Participants will examine the history of bias in real estate\, learn about the mind science of identity\, study how implicit bias can result in fair housing violations and engage in interactive exercises to enhance communication skills and business relationships with clients of all backgrounds. \n\nSnacks provided \nThis class provides the following credit: 4 hours of CE \nMember Registration: $35\nRegistration: $50 \n	\n\n\n\n\n	\n	\n				\n		Presented by\n							\n								\n									\n					\n				Tikola McCree\n														\n											\n							\n					Tikola McCree is a dedicated real estate professional with North Group Real Estate in the Greater Charlotte Area and a proud soccer mom to her 16-year-old son. With nearly two decades in education\, she has trained young artists and scholars\, shaping her passion for mentorship and community empowerment. \nA graduate of Rutgers University and Sarah Lawrence College\, Tikola holds certifications in administration\, special education\, and movement for students with disabilities. She actively champions fair housing and diversity\, serving as the 2024 Chair of the NC REALTORS® Diversity Committee\, 2025 Vice Chair and 2026 Chair of the NAR Fair Housing Policy Committee\, and President of the Charlotte Crown REALTIST Association (2022-2024). She also serves on the Canopy MLS Board of Directors and is part of NAR’s 2024 Leadership Academy. \nCommitted to fostering generational wealth\, Tikola educates agents nationwide on serving diverse communities and the impact of policy on the industry\, making her a leading voice in real estate advocacy and inclusion.
URL:https://www.ncrealtors.org/event/041725-bias-override/
LOCATION:Outer Banks Association of REALTORS®\, 201 W 8th St\, Nags Head\, NC\, 27959
CATEGORIES:CE Courses,Designations & Certifications,Fair Housing
ATTACH;FMTTYPE=image/jpeg:https://www.ncrealtors.org/wp-content/uploads/041725BIAS_FeatureImage.jpg
END:VEVENT
BEGIN:VEVENT
DTSTART;TZID=America/New_York:20230330T090000
DTEND;TZID=America/New_York:20230330T163000
DTSTAMP:20260421T140312
CREATED:20230427T202304Z
LAST-MODIFIED:20230427T202552Z
UID:10000005-1680166800-1680193800@www.ncrealtors.org
SUMMARY:In-Person | Resort and Second Home Property Specialist
DESCRIPTION:The goal of the Resort & Second-Home Property Specialist Certification Course is to help real estate practitioners adapt and apply their core real estate skills\, develop business and branding strategies\, understand the issues and trends that impact the second-home market\, and help buyers choose properties that meet their vacation or investment second-home goals. Participants will gain knowledge of the essentials of buying and selling second-home properties for recreation and investment and build a second-home business \nThis course qualifies REALTORS® who are in good standing with NAR to apply for the RSPS Certification (separate application fee required).  \n	\n\n\n\n\n\n\n	\n	\n				\n		Presented by\n							\n								\n									\n					\n				Stephanie Walker\n														Owner/President	\n														\n														Stephanie Walker & Associates	\n											\n							\n					Stephanie has been in the real estate business for more than 3 decades. Stephanie holds a number of NAR Designations and is trained in both REALTOR® and Superior Court Mediation. She is a past President of both the Outer Banks Association of REALTORS® and the North Carolina Association of REALTORS®.  In 2016\, Stephanie was honored as the NC REALTORS® REALTOR® of the Year. \nHer experiences\, both in the field and volunteering at all levels of the REALTOR® association\, give her plenty of real life\, in the trenches stories to  supplement her courses with actual scenarios that bring relevance\, substance\, and humor to attendees.
URL:https://www.ncrealtors.org/event/in-person-resort-and-second-home-property-specialist/
LOCATION:Outer Banks Association of REALTORS®\, 201 W 8th St\, Nags Head\, NC\, 27959
CATEGORIES:Designations & Certifications
END:VEVENT
BEGIN:VEVENT
DTSTART;TZID=UTC:20230425T083000
DTEND;TZID=UTC:20230425T163000
DTSTAMP:20260421T140312
CREATED:20230119T223714Z
LAST-MODIFIED:20230220T205553Z
UID:10000010-1682411400-1682440200@www.ncrealtors.org
SUMMARY:In-person | At Home With Diversity
DESCRIPTION:AHWD is an NAR certification program designed to present a picture of the changing face of the real estate industry. The At Home with Diversity course addresses the topics of diversity\, fair housing and business planning development. After successfully completing the course\, REALTORS® are eligible to apply for the official AHWD certification\, which conveys to clients they’re working with a dynamic real estate professional with expertise that transcends cultural barriers.
URL:https://www.ncrealtors.org/event/in-person-at-home-with-diversity-2/
LOCATION:Outer Banks Association of REALTORS®\, 201 W 8th St\, Nags Head\, NC\, 27959
CATEGORIES:Designations & Certifications,Diversity
END:VEVENT
BEGIN:VEVENT
DTSTART;TZID=UTC:20230418T090000
DTEND;TZID=UTC:20230418T160000
DTSTAMP:20260421T140312
CREATED:20230113T203412Z
LAST-MODIFIED:20230302T141743Z
UID:10000008-1681808400-1681833600@www.ncrealtors.org
SUMMARY:In-Person | At Home With Diversity
DESCRIPTION:AHWD is an NAR certification program designed to present a picture of the changing face of the real estate industry. The At Home with Diversity course addresses the topics of diversity\, fair housing and business planning development. After successfully completing the course\, REALTORS® are eligible to apply for the official AHWD certification\, which conveys to clients they’re working with a dynamic real estate professional with expertise that transcends cultural barriers.
URL:https://www.ncrealtors.org/event/in-person-at-home-with-diversity/
LOCATION:Outer Banks Association of REALTORS®\, 201 W 8th St\, Nags Head\, NC\, 27959
CATEGORIES:Designations & Certifications,Diversity
END:VEVENT
END:VCALENDAR