BEGIN:VCALENDAR
VERSION:2.0
PRODID:-//NC REALTORS® - ECPv6.15.16.1//NONSGML v1.0//EN
CALSCALE:GREGORIAN
METHOD:PUBLISH
X-ORIGINAL-URL:https://www.ncrealtors.org
X-WR-CALDESC:Events for NC REALTORS®
REFRESH-INTERVAL;VALUE=DURATION:PT1H
X-Robots-Tag:noindex
X-PUBLISHED-TTL:PT1H
BEGIN:VTIMEZONE
TZID:America/New_York
BEGIN:DAYLIGHT
TZOFFSETFROM:-0500
TZOFFSETTO:-0400
TZNAME:EDT
DTSTART:20230312T070000
END:DAYLIGHT
BEGIN:STANDARD
TZOFFSETFROM:-0400
TZOFFSETTO:-0500
TZNAME:EST
DTSTART:20231105T060000
END:STANDARD
BEGIN:DAYLIGHT
TZOFFSETFROM:-0500
TZOFFSETTO:-0400
TZNAME:EDT
DTSTART:20240310T070000
END:DAYLIGHT
BEGIN:STANDARD
TZOFFSETFROM:-0400
TZOFFSETTO:-0500
TZNAME:EST
DTSTART:20241103T060000
END:STANDARD
BEGIN:DAYLIGHT
TZOFFSETFROM:-0500
TZOFFSETTO:-0400
TZNAME:EDT
DTSTART:20250309T070000
END:DAYLIGHT
BEGIN:STANDARD
TZOFFSETFROM:-0400
TZOFFSETTO:-0500
TZNAME:EST
DTSTART:20251102T060000
END:STANDARD
BEGIN:DAYLIGHT
TZOFFSETFROM:-0500
TZOFFSETTO:-0400
TZNAME:EDT
DTSTART:20260308T070000
END:DAYLIGHT
BEGIN:STANDARD
TZOFFSETFROM:-0400
TZOFFSETTO:-0500
TZNAME:EST
DTSTART:20261101T060000
END:STANDARD
BEGIN:DAYLIGHT
TZOFFSETFROM:-0500
TZOFFSETTO:-0400
TZNAME:EDT
DTSTART:20270314T070000
END:DAYLIGHT
BEGIN:STANDARD
TZOFFSETFROM:-0400
TZOFFSETTO:-0500
TZNAME:EST
DTSTART:20271107T060000
END:STANDARD
END:VTIMEZONE
BEGIN:VTIMEZONE
TZID:UTC
BEGIN:STANDARD
TZOFFSETFROM:+0000
TZOFFSETTO:+0000
TZNAME:UTC
DTSTART:20220101T000000
END:STANDARD
END:VTIMEZONE
BEGIN:VEVENT
DTSTART;TZID=America/New_York:20260219T123000
DTEND;TZID=America/New_York:20260219T173000
DTSTAMP:20260421T235823
CREATED:20260203T220009Z
LAST-MODIFIED:20260203T220552Z
UID:10000358-1771504200-1771522200@www.ncrealtors.org
SUMMARY:In-Person | 2026 REALTOR® Party & NC REALTORS® PAC Training
DESCRIPTION:Get ready to Pump Up the PAC with NC REALTORS® PAC Chair Jon McBride! \nJoin us for an energizing afternoon of REALTOR® Party and PAC education\, networking and practical takeaways. \nYou’ll have the opportunity to meet your Trustees\, learn more about NCR legislative programs and hear directly from NC REALTORS® staff on campaign finance law and effective fundraising applications. We’ll also feature special guests from local associations who will share insights on local candidate funding and successful fundraising ideas. You’ll learn how to “Pump Up the PAC” with the REALTOR® Party Travel Team from special guest\, Seth Task\, 2026 NAR REALTOR® Party Director. We’ll finish the day with a PAC cool down\, complete with cold drinks because every workout deserves a strong finish! \nSCHEDULE \nWe hope you’ll be able to join us in Raleigh and keep the momentum going. Thank you for all you do to support the REALTOR® Party and NC REALTORS® PAC. \n*Lunch Included
URL:https://www.ncrealtors.org/event/021926-pac-training/
LOCATION:Raleigh Regional Association of REALTORS®\, 111 Realtors Way\, Cary\, NC\, 27513
CATEGORIES:RPAC Events
ATTACH;FMTTYPE=image/jpeg:https://www.ncrealtors.org/wp-content/uploads/2026RPAC_Training_FeatureImage_v2.jpg
END:VEVENT
BEGIN:VEVENT
DTSTART;TZID=America/New_York:20260122T133000
DTEND;TZID=America/New_York:20260122T173000
DTSTAMP:20260421T235823
CREATED:20251219T215346Z
LAST-MODIFIED:20251219T215533Z
UID:10000346-1769088600-1769103000@www.ncrealtors.org
SUMMARY:In-Person | The Future of Technology in Real Estate and Ethics
DESCRIPTION:This is an in-depth course aimed at empowering real estate professionals with the expertise required to adapt to the changing technological environment. It highlights the critical aspects of protecting both personal and client data\, comprehending the ethical considerations of AI in real estate\, and responsibly utilizing technological tools. Furthermore\, it delves into the progress in e-closings and their advantages for consumers. By course completion\, students will be proficient in incorporating technology while maintaining ethical standards and complying with Real Estate Commission regulations. \n\nHosted by: Raleigh Regional Association of REALTORS® \nThis class provides the following credit: 4 Hours of CE & GRI Designation \nRRAR Member Price (with CE): $60.00\nNon-Member Price (with CE): $65.00 \nMembers of Raleigh Regional Association of REALTORS® can register by clicking the Register button. Non-RRAR members can register by contacting education@rrar.com. \n	\n\n\n\n\n\n\n	\n	\n				\n		Presented by\n							\n								\n									\n					\n				Mark Saunders\n														\n														Real Estate Brokers Academy	\n											\n							\n					Mark Saunders is a graduate of Appalachian State University and became a full-time REALTOR® in 2005. \nHe serves the REALTOR® community by participating on the Board of Directors for the Winston-Salem Association of REALTORS® and the North Carolina Association of REALTORS®. He is also a member of the North Carolina Association of REALTORS® Young Professionals Network\, serving as vice-chair in 2014 and chair in 2015. \nMark has received a number of awards and forms of recognition in his career\, which include: \n\n2010 Winston-Salem Association of REALTORS® Presidents Award for Outstanding Service and Dedication in the field of property management.\n2013 National Association of REALTORS® Young Professionals Network of the Year winner\n2013 Winston-Salem Association of REALTORS® Presidents Award for Outstanding Service and Dedication to the local association\n2016 Winston-Salem Association of REALTORS® Property Manager of the year\,\n2016 NC REALTOR® Innovation & Entrepreneurial Excellence Award\n2018 was selected to the 2018 Triad Business Journal 40 under 40 Business Leaders Class\n\nFind Mark on: \n\nWebsite\nLinkedIn\nYouTube\nX\nFacebook\nInstagram
URL:https://www.ncrealtors.org/event/022226-future-of-technology-in-real-estate-and-ethics/
LOCATION:Raleigh Regional Association of REALTORS®\, 111 Realtors Way\, Cary\, NC\, 27513
CATEGORIES:CE Courses,Designations & Certifications,GRI,Legal & Ethics
ATTACH;FMTTYPE=image/jpeg:https://www.ncrealtors.org/wp-content/uploads/TheFutureofTechnologyinRealEstate_FeatureImage.jpg
END:VEVENT
BEGIN:VEVENT
DTSTART;TZID=UTC:20260324T080000
DTEND;TZID=UTC:20260325T170000
DTSTAMP:20260421T235823
CREATED:20251205T212315Z
LAST-MODIFIED:20251205T212320Z
UID:10000343-1774339200-1774458000@www.ncrealtors.org
SUMMARY:In-person | Land 101: Fundamentals of Land Brokerage
DESCRIPTION:This course is the perfect introduction to the land specialty. Whether just entering the land real estate industry or looking to refresh on the basics\, attendees will acquire knowledge to more confidently assist clients. This course provides a strong foundation for any real estate professional looking to perform land transactions. \nAfter taking this course\, attendees will have the: \n\nExpertise to navigate various environmental\, land-use rights and restrictions\, and taxation factors associated with land transactions.\nConfidence to identify\, describe\, map and value the different types of land real estate.\nCompetence needed to help clients through the 1031 tax-deferred exchange process.\nKnowledge to strategically market and sell properties.\n\nResources and tools received: \n\nFarm Listing Checklist\nTools to Estimate Tract Productivity\nSample Marketing Pack age\n\n\nThis class provides the following credit: 4 hours CE \n\nALC Designated Course Price ($300) – For registrants that have already earned the Accredited Land Consultants (ALC) Designation and are considered to be an active ALC.RLI\nMember Course Price ($450) – For registrants that are REALTORS® Land Institute Members who have not yet earned the Accredited Land Consultant (ALC) Designation.\nNon-Member Course Price ($500) – For registrants that are not active members of the REALTORS® Land Institute.\n\n	\n\n\n\n\n	\n	\n				\n		Presented by\n							\n								\n									\n					\n				Christina Asbury\n														\n											\n							\n					Meet your Land 101 class instructor\, a seasoned Accredited Land Consultant (ALC) hailing from the Coastal area of North Carolina. With a wealth of experience and expertise in the land business\, she is a driving force in the region’s real estate landscape. Having demonstrated exceptional leadership and dedication\, she has served multiple terms as the President of the Carolinas Chapter of the Realtors® Land Institute (RLI). Not content with merely local influence\, she has also actively contributed to the growth and development of the land industry at the national level\, participating in various capacities and holding influential positions within RLI National and NAR. \nHer passion for the land business is palpable\, and she revels in the opportunity to interact with the people who make the industry thrive. While many may prefer the comfort of an office and a computer screen\, this ALC is a true outdoors enthusiast\, finding solace and excitement in being out in the field\, exploring and understanding the vast landscapes that coastal North Carolina has to offer. Her skill set is diverse\, and her experience encompasses working with a wide array of clients\, from asset managers to developers\, builders\, farmers\, and even the everyday land investor. Her ability to cater to various stakeholders is a testament to her adaptability and understanding of the complexities involved in land transactions. \nWhether you need guidance on land transactions\, expert advice on development opportunities\, or assistance with finding the right parcel to meet your needs\, this ALC is your go-to person. So\, buckle up for an exciting journey through the fascinating world of land and real estate with your highly experienced and passionate instructor. You’re sure to gain valuable insights and practical knowledge that will empower you to navigate the land business successfully. Welcome to Land 101 and the Realtors Land Institute!
URL:https://www.ncrealtors.org/event/032426-land-101-fundamentals-of-land-brokerage/
LOCATION:Raleigh Regional Association of REALTORS®\, 111 Realtors Way\, Cary\, NC\, 27513
CATEGORIES:CE Courses,Designations & Certifications
END:VEVENT
BEGIN:VEVENT
DTSTART;TZID=America/New_York:20250924T090000
DTEND;TZID=America/New_York:20250925T160000
DTSTAMP:20260421T235823
CREATED:20250909T132414Z
LAST-MODIFIED:20250909T133251Z
UID:10000317-1758704400-1758816000@www.ncrealtors.org
SUMMARY:In-Person | Sustainability Summit featuring Smart Growth
DESCRIPTION:Raleigh is growing fast — and REALTORS® have a front-row seat to how our communities evolve. As our city and county prepare their next comprehensive growth plans\, this is your chance to deepen your understanding of smart growth concepts\, sustainability\, planning\, and zoning and walk away ready to better serve your clients\, your business\, and our community. \nYour ticket gives you access to 2 days of programming \n(come for it all\, or pick and choose sessions)\, along with food\, drinks\, networking\, and a CE credit opportunity!
URL:https://www.ncrealtors.org/event/092425-sustainability-summit/
LOCATION:Raleigh Regional Association of REALTORS®\, 111 Realtors Way\, Cary\, NC\, 27513
CATEGORIES:CE Courses
END:VEVENT
BEGIN:VEVENT
DTSTART;TZID=UTC:20250326T090000
DTEND;TZID=UTC:20250326T163000
DTSTAMP:20260421T235823
CREATED:20250311T153001Z
LAST-MODIFIED:20250311T153006Z
UID:10000119-1742979600-1743006600@www.ncrealtors.org
SUMMARY:In-person | At Home With Diversity
DESCRIPTION:AHWD is an NAR certification program designed to present a picture of the changing face of the real estate industry. The At Home with Diversity course addresses the topics of diversity\, fair housing and business planning development. After successfully completing the course\, REALTORS® are eligible to apply for the official AHWD certification\, which conveys to clients they’re working with a dynamic real estate professional with expertise that transcends cultural barriers. AHWD Certification Requirements \n\nLunch and snacks will be provided. \nThis class provides the following credit: 4 hours of CE & NAR’s Fair Housing Requirement \nRRAR and Durham Association Member Registration: $60 (Includes CE)\nOther Member Registration: $75 (Includes CE)\nAudit Registration (for those that have the certification and just want CE hours): $25 (Includes CE) \n	\n\n\n\n\n	\n	\n				\n		Presented by\n							\n								\n									\n					\n				Tikola McCree\n														\n											\n							\n					Tikola McCree is a dedicated real estate professional with North Group Real Estate in the Greater Charlotte Area and a proud soccer mom to her 16-year-old son. With nearly two decades in education\, she has trained young artists and scholars\, shaping her passion for mentorship and community empowerment. \nA graduate of Rutgers University and Sarah Lawrence College\, Tikola holds certifications in administration\, special education\, and movement for students with disabilities. She actively champions fair housing and diversity\, serving as the 2024 Chair of the NC REALTORS® Diversity Committee\, 2025 Vice Chair and 2026 Chair of the NAR Fair Housing Policy Committee\, and President of the Charlotte Crown REALTIST Association (2022-2024). She also serves on the Canopy MLS Board of Directors and is part of NAR’s 2024 Leadership Academy. \nCommitted to fostering generational wealth\, Tikola educates agents nationwide on serving diverse communities and the impact of policy on the industry\, making her a leading voice in real estate advocacy and inclusion.
URL:https://www.ncrealtors.org/event/032625-at-home-with-diversity/
LOCATION:Raleigh Regional Association of REALTORS®\, 111 Realtors Way\, Cary\, NC\, 27513
CATEGORIES:CE Courses,DEI,Designations & Certifications,Diversity,Fair Housing
ATTACH;FMTTYPE=image/png:https://www.ncrealtors.org/wp-content/uploads/NAR_AHWD_Horiz_RGB_FeatureImage.png
END:VEVENT
BEGIN:VEVENT
DTSTART;TZID=America/New_York:20241205T080000
DTEND;TZID=America/New_York:20241206T170000
DTSTAMP:20260421T235823
CREATED:20240927T202558Z
LAST-MODIFIED:20241031T150145Z
UID:10000188-1733385600-1733504400@www.ncrealtors.org
SUMMARY:In-Person | Transitional Land Real Estate
DESCRIPTION:Opportunities are arising for real estate agents as more and more undeveloped land is being adapted for recreational and commercial uses\, and real estate agents need to understand how to determine clients’ needs and buy and sell property at fair market value. This is an essential course for land and commercial agents looking to gain a better understanding of both sides of a transitional land transaction. \nAfter taking this course\, attendees will have the: \n\nExpertise to analyze options and determine the highest and best use of a property.\nConfidence to develop an effective marketing campaign to sell these types of properties.\nCompetence to estimate the market value of a transitional land property.\nKnowledge to understand the financial aspects\, physical considerations\, governmental\, legal and economic factors that impact transitional land.\n\nLISTEN TO OUR PODCAST EPISODE FEATURING INSTRUCTOR CHRISTINA ASBURY \n\nThis class provides the following credit: 4 Hours of Elective CE \nALC Designated: $400.00\nRLI Member: $425.00\nNon-Member: $500.00 \n	\n\n\n\n\n	\n	\n				\n		Presented by\n							\n								\n									\n					\n				Christina Asbury\n														\n											\n							\n					Meet your Land 101 class instructor\, a seasoned Accredited Land Consultant (ALC) hailing from the Coastal area of North Carolina. With a wealth of experience and expertise in the land business\, she is a driving force in the region’s real estate landscape. Having demonstrated exceptional leadership and dedication\, she has served multiple terms as the President of the Carolinas Chapter of the Realtors® Land Institute (RLI). Not content with merely local influence\, she has also actively contributed to the growth and development of the land industry at the national level\, participating in various capacities and holding influential positions within RLI National and NAR. \nHer passion for the land business is palpable\, and she revels in the opportunity to interact with the people who make the industry thrive. While many may prefer the comfort of an office and a computer screen\, this ALC is a true outdoors enthusiast\, finding solace and excitement in being out in the field\, exploring and understanding the vast landscapes that coastal North Carolina has to offer. Her skill set is diverse\, and her experience encompasses working with a wide array of clients\, from asset managers to developers\, builders\, farmers\, and even the everyday land investor. Her ability to cater to various stakeholders is a testament to her adaptability and understanding of the complexities involved in land transactions. \nWhether you need guidance on land transactions\, expert advice on development opportunities\, or assistance with finding the right parcel to meet your needs\, this ALC is your go-to person. So\, buckle up for an exciting journey through the fascinating world of land and real estate with your highly experienced and passionate instructor. You’re sure to gain valuable insights and practical knowledge that will empower you to navigate the land business successfully. Welcome to Land 101 and the Realtors Land Institute!
URL:https://www.ncrealtors.org/event/120424-transitional-land-real-estate/
LOCATION:Raleigh Regional Association of REALTORS®\, 111 Realtors Way\, Cary\, NC\, 27513
CATEGORIES:CE Courses,Commercial,Designations & Certifications
END:VEVENT
BEGIN:VEVENT
DTSTART;TZID=UTC:20231128T080000
DTEND;TZID=UTC:20231129T170000
DTSTAMP:20260421T235823
CREATED:20230728T192707Z
LAST-MODIFIED:20230908T133845Z
UID:10000059-1701158400-1701277200@www.ncrealtors.org
SUMMARY:In-person | Land 101: Fundamentals of Land Brokerage
DESCRIPTION:This course is the perfect introduction to the land specialty. Whether just entering the land real estate industry or looking to refresh on the basics\, attendees will acquire knowledge to more confidently assist clients. This course provides a strong foundation for any real estate professional looking to perform land transactions. \nAfter taking this course\, attendees will have the: \n\nExpertise to navigate various environmental\, land-use rights and restrictions\, and taxation factors associated with land transactions.\nConfidence to identify\, describe\, map and value the different types of land real estate.\nCompetence needed to help clients through the 1031 tax-deferred exchange process.\nKnowledge to strategically market and sell properties.\n\nResources and tools received: \n\nFarm Listing Checklist\nTools to Estimate Tract Productivity\nSample Marketing Pack age\n\n\nThis class provides the following credit: 4 hours CE \nRLI Member Price (with CE): $425\nNon-member Price (with CE): $500 \n	\n\n\n\n\n	\n	\n				\n		Presented by\n							\n								\n									\n					\n				Christina Asbury\n														\n											\n							\n					Meet your Land 101 class instructor\, a seasoned Accredited Land Consultant (ALC) hailing from the Coastal area of North Carolina. With a wealth of experience and expertise in the land business\, she is a driving force in the region’s real estate landscape. Having demonstrated exceptional leadership and dedication\, she has served multiple terms as the President of the Carolinas Chapter of the Realtors® Land Institute (RLI). Not content with merely local influence\, she has also actively contributed to the growth and development of the land industry at the national level\, participating in various capacities and holding influential positions within RLI National and NAR. \nHer passion for the land business is palpable\, and she revels in the opportunity to interact with the people who make the industry thrive. While many may prefer the comfort of an office and a computer screen\, this ALC is a true outdoors enthusiast\, finding solace and excitement in being out in the field\, exploring and understanding the vast landscapes that coastal North Carolina has to offer. Her skill set is diverse\, and her experience encompasses working with a wide array of clients\, from asset managers to developers\, builders\, farmers\, and even the everyday land investor. Her ability to cater to various stakeholders is a testament to her adaptability and understanding of the complexities involved in land transactions. \nWhether you need guidance on land transactions\, expert advice on development opportunities\, or assistance with finding the right parcel to meet your needs\, this ALC is your go-to person. So\, buckle up for an exciting journey through the fascinating world of land and real estate with your highly experienced and passionate instructor. You’re sure to gain valuable insights and practical knowledge that will empower you to navigate the land business successfully. Welcome to Land 101 and the Realtors Land Institute!
URL:https://www.ncrealtors.org/event/land-101-fundamentals-of-land-brokerage/
LOCATION:Raleigh Regional Association of REALTORS®\, 111 Realtors Way\, Cary\, NC\, 27513
CATEGORIES:CE Courses,Designations & Certifications
END:VEVENT
END:VCALENDAR