BEGIN:VCALENDAR
VERSION:2.0
PRODID:-//NC REALTORS® - ECPv6.15.16.1//NONSGML v1.0//EN
CALSCALE:GREGORIAN
METHOD:PUBLISH
X-WR-CALNAME:NC REALTORS®
X-ORIGINAL-URL:https://www.ncrealtors.org
X-WR-CALDESC:Events for NC REALTORS®
REFRESH-INTERVAL;VALUE=DURATION:PT1H
X-Robots-Tag:noindex
X-PUBLISHED-TTL:PT1H
BEGIN:VTIMEZONE
TZID:America/New_York
BEGIN:DAYLIGHT
TZOFFSETFROM:-0500
TZOFFSETTO:-0400
TZNAME:EDT
DTSTART:20230312T070000
END:DAYLIGHT
BEGIN:STANDARD
TZOFFSETFROM:-0400
TZOFFSETTO:-0500
TZNAME:EST
DTSTART:20231105T060000
END:STANDARD
BEGIN:DAYLIGHT
TZOFFSETFROM:-0500
TZOFFSETTO:-0400
TZNAME:EDT
DTSTART:20240310T070000
END:DAYLIGHT
BEGIN:STANDARD
TZOFFSETFROM:-0400
TZOFFSETTO:-0500
TZNAME:EST
DTSTART:20241103T060000
END:STANDARD
BEGIN:DAYLIGHT
TZOFFSETFROM:-0500
TZOFFSETTO:-0400
TZNAME:EDT
DTSTART:20250309T070000
END:DAYLIGHT
BEGIN:STANDARD
TZOFFSETFROM:-0400
TZOFFSETTO:-0500
TZNAME:EST
DTSTART:20251102T060000
END:STANDARD
END:VTIMEZONE
BEGIN:VEVENT
DTSTART;TZID=America/New_York:20240516T150000
DTEND;TZID=America/New_York:20240516T180000
DTSTAMP:20260423T213331
CREATED:20240425T193624Z
LAST-MODIFIED:20240425T193627Z
UID:10000133-1715871600-1715882400@www.ncrealtors.org
SUMMARY:TCAR’s 1st Annual Cornhole Cup
DESCRIPTION:Who will be the boss of the toss? Who will master the trash stalk? Find out May 16th at the event of the ear! \n$100 Team of 2\n$20 Non-Participant
URL:https://www.ncrealtors.org/event/051624-tcars-1st-annual-cornhole-cup/
LOCATION:R&D Brewing\, 1399 Capital Boulevard\, Raleigh\, NC\, 27603
CATEGORIES:Commercial
END:VEVENT
END:VCALENDAR